BEGIN:VCALENDAR
VERSION:2.0
PRODID:-//The Fox and the Fiddle - ECPv6.13.2.1//NONSGML v1.0//EN
CALSCALE:GREGORIAN
METHOD:PUBLISH
X-WR-CALNAME:The Fox and the Fiddle
X-ORIGINAL-URL:https://thefoxandthefiddle.com
X-WR-CALDESC:Events for The Fox and the Fiddle
REFRESH-INTERVAL;VALUE=DURATION:PT1H
X-Robots-Tag:noindex
X-PUBLISHED-TTL:PT1H
BEGIN:VTIMEZONE
TZID:America/New_York
BEGIN:DAYLIGHT
TZOFFSETFROM:-0500
TZOFFSETTO:-0400
TZNAME:EDT
DTSTART:20260308T070000
END:DAYLIGHT
BEGIN:STANDARD
TZOFFSETFROM:-0400
TZOFFSETTO:-0500
TZNAME:EST
DTSTART:20261101T060000
END:STANDARD
END:VTIMEZONE
BEGIN:VEVENT
DTSTART;TZID=America/New_York:20260424T200000
DTEND;TZID=America/New_York:20260424T230000
DTSTAMP:20260424T011602
CREATED:20260203T053632Z
LAST-MODIFIED:20260203T053632Z
UID:1217-1777060800-1777071600@thefoxandthefiddle.com
SUMMARY:Fenton Hotel
DESCRIPTION:See you at The Fenton Hotel. A wonderderful place filled with great people.
URL:https://thefoxandthefiddle.com/event/fenton-hotel-26/
LOCATION:Fenton Hotel\, 302 N Leroy St.\, Fenton\, MI\, 48430\, United States
CATEGORIES:Fox and The Fiddle,Schedule
ATTACH;FMTTYPE=image/jpeg:https://thefoxandthefiddle.com/wp-content/uploads/2022/10/Fenton-Hotel-and-restaurant.jpg
END:VEVENT
END:VCALENDAR