BEGIN:VCALENDAR
VERSION:2.0
PRODID:-//The Fox and the Fiddle - ECPv6.13.2.1//NONSGML v1.0//EN
CALSCALE:GREGORIAN
METHOD:PUBLISH
X-ORIGINAL-URL:https://thefoxandthefiddle.com
X-WR-CALDESC:Events for The Fox and the Fiddle
REFRESH-INTERVAL;VALUE=DURATION:PT1H
X-Robots-Tag:noindex
X-PUBLISHED-TTL:PT1H
BEGIN:VTIMEZONE
TZID:America/New_York
BEGIN:DAYLIGHT
TZOFFSETFROM:-0500
TZOFFSETTO:-0400
TZNAME:EDT
DTSTART:20250309T070000
END:DAYLIGHT
BEGIN:STANDARD
TZOFFSETFROM:-0400
TZOFFSETTO:-0500
TZNAME:EST
DTSTART:20251102T060000
END:STANDARD
END:VTIMEZONE
BEGIN:VEVENT
DTSTART;TZID=America/New_York:20251003T173000
DTEND;TZID=America/New_York:20251003T200000
DTSTAMP:20260425T074950
CREATED:20251002T230950Z
LAST-MODIFIED:20251002T230950Z
UID:1113-1759512600-1759521600@thefoxandthefiddle.com
SUMMARY:Beach Party
DESCRIPTION:Join us for fun and music on the water front on beautiful Elizabeth Lake in Waterford Michigan.
URL:https://thefoxandthefiddle.com/event/beach-party/
LOCATION:Beach Front\, 4391 Lanette\, Waterford\, MI\, 48328\, United States
CATEGORIES:Fox and The Fiddle,Schedule
ATTACH;FMTTYPE=image/jpeg:https://thefoxandthefiddle.com/wp-content/uploads/2025/10/1000004386.jpg
END:VEVENT
BEGIN:VEVENT
DTSTART;TZID=America/New_York:20251005T130000
DTEND;TZID=America/New_York:20251005T160000
DTSTAMP:20260425T074950
CREATED:20250918T232859Z
LAST-MODIFIED:20250918T232859Z
UID:1106-1759669200-1759680000@thefoxandthefiddle.com
SUMMARY:Sylvan Lake Community Center Pumpkin Festival
DESCRIPTION:Join us for fun\, pumpkins\, music\, snacks\, and treats\, with the entire neighborhood and your friend The Fox and the Fiddle at The Sylvan Lake Community Center.
URL:https://thefoxandthefiddle.com/event/sylvan-lake-community-center-pumpkin-festival/
LOCATION:Sylvan Lake Community Center\, 2456 Pontiac Dr.\, Sylvan Lake\, Mi\, 48320
CATEGORIES:Fox and The Fiddle,Schedule
ATTACH;FMTTYPE=image/jpeg:https://thefoxandthefiddle.com/wp-content/uploads/2025/09/c-b-p-g.jpg
END:VEVENT
BEGIN:VEVENT
DTSTART;TZID=America/New_York:20251008T173000
DTEND;TZID=America/New_York:20251008T200000
DTSTAMP:20260425T074950
CREATED:20251002T231742Z
LAST-MODIFIED:20251002T231742Z
UID:1118-1759944600-1759953600@thefoxandthefiddle.com
SUMMARY:Royal Oak Farmers Market Special Event
DESCRIPTION:We are performing for a special event at the Royal Oak Farmers Market to celebrate this amazing venue. Vendors\, music\, square dancing and even the Mayor will be there to say a few kind words. See you there !!!
URL:https://thefoxandthefiddle.com/event/royal-oak-farmers-market-special-event/
LOCATION:Royal Oak Farmers Market\, 316 E 11mile rd\, Royal Oak\, MI\, 48067\, United States
CATEGORIES:Fox and The Fiddle,Schedule
ATTACH;FMTTYPE=image/jpeg:https://thefoxandthefiddle.com/wp-content/uploads/2021/05/The-Fox-and-The-Fiddle-1080.jpg
END:VEVENT
BEGIN:VEVENT
DTSTART;TZID=America/New_York:20251009T180000
DTEND;TZID=America/New_York:20251009T213000
DTSTAMP:20260425T074950
CREATED:20251002T232824Z
LAST-MODIFIED:20251002T232824Z
UID:1120-1760032800-1760045400@thefoxandthefiddle.com
SUMMARY:Goomah Pizza
DESCRIPTION:We are so blessed to have been able to have such fantastic place to perform at like Goomah Pizza. The people\, the food and the atmosphere are excellent and we are excited to be back again for another wonderful Thursday night. See you there!!!!
URL:https://thefoxandthefiddle.com/event/goomah-pizza-3/
LOCATION:Goomah Pizzeria and Live Bait\, 2440 Orchard Lake\, Sylvan Lake\, Mi\, 48320
CATEGORIES:Fox and The Fiddle,Schedule
ATTACH;FMTTYPE=image/jpeg:https://thefoxandthefiddle.com/wp-content/uploads/2025/01/OIP.jpg
END:VEVENT
BEGIN:VEVENT
DTSTART;TZID=America/New_York:20251010T210000
DTEND;TZID=America/New_York:20251010T233000
DTSTAMP:20260425T074950
CREATED:20251002T233620Z
LAST-MODIFIED:20251002T233620Z
UID:1122-1760130000-1760139000@thefoxandthefiddle.com
SUMMARY:Whiske Peak
DESCRIPTION:Downtown Auburn Hills has a great new place and we are rocking it out and you are invited. Come hang out and listen to us do our thing. the dance floor will be open and the beers will ice cold. Order a whiskey at Johnny Blacks Whiskey Peak. See you there !!
URL:https://thefoxandthefiddle.com/event/whiske-peak/
LOCATION:Johnny Blacks Whiskey Park\, 3320 Aubrun Rd.\, Auburn Hills\, MI\, 48326\, United States
CATEGORIES:Fox and The Fiddle,Schedule
ATTACH;FMTTYPE=image/webp:https://thefoxandthefiddle.com/wp-content/uploads/2025/07/unnamed.webp
END:VEVENT
BEGIN:VEVENT
DTSTART;TZID=America/New_York:20251011T100000
DTEND;TZID=America/New_York:20251011T120000
DTSTAMP:20260425T074950
CREATED:20251002T234230Z
LAST-MODIFIED:20251002T234230Z
UID:1125-1760176800-1760184000@thefoxandthefiddle.com
SUMMARY:Royal Oak Farmers Market
DESCRIPTION:Saturday morning and everything you could ever ask for is under one roof. Coffee\, smoothies\, produce\, sandwhiches\, jams\, jellies\, beef jerky and your amazing musical friends The Fox and the Fiddle.
URL:https://thefoxandthefiddle.com/event/royal-oak-farmers-market-22/
LOCATION:Royal Oak Farmers Market\, 316 E 11mile rd\, Royal Oak\, MI\, 48067\, United States
CATEGORIES:Fox and The Fiddle,Schedule
ATTACH;FMTTYPE=image/jpeg:https://thefoxandthefiddle.com/wp-content/uploads/2021/10/royal-oak-farmers-marjket.jpg
END:VEVENT
BEGIN:VEVENT
DTSTART;TZID=America/New_York:20251016T190000
DTEND;TZID=America/New_York:20251016T220000
DTSTAMP:20260425T074950
CREATED:20251002T235120Z
LAST-MODIFIED:20251002T235120Z
UID:1127-1760641200-1760652000@thefoxandthefiddle.com
SUMMARY:Octopuss's Beer Garden
DESCRIPTION:See you on the river and enjoy one of the best and coolest places you can go in the great city of Mt. Clemens The Octopuss’s Beer Garden.
URL:https://thefoxandthefiddle.com/event/octopusss-beer-garden/
LOCATION:Octopus’ Beer Garden\, 152 North River Rd\, Mt. Clemens\, 48043\, United States
CATEGORIES:Fox and The Fiddle,Schedule
ATTACH;FMTTYPE=image/jpeg:https://thefoxandthefiddle.com/wp-content/uploads/2024/10/OIP.jpg
END:VEVENT
BEGIN:VEVENT
DTSTART;TZID=America/New_York:20251017T193000
DTEND;TZID=America/New_York:20251017T233000
DTSTAMP:20260425T074951
CREATED:20251003T000522Z
LAST-MODIFIED:20251003T000522Z
UID:1129-1760729400-1760743800@thefoxandthefiddle.com
SUMMARY:The Fenton Hotel
DESCRIPTION:The Fenton Hotel join us for a wonderful night. See you there !
URL:https://thefoxandthefiddle.com/event/the-fenton-hotel-28/
LOCATION:Fenton Hotel\, 302 N Leroy St.\, Fenton\, MI\, 48430\, United States
CATEGORIES:Fox and The Fiddle,Schedule
ATTACH;FMTTYPE=image/jpeg:https://thefoxandthefiddle.com/wp-content/uploads/2022/10/Fenton-Hotel-and-restaurant.jpg
END:VEVENT
BEGIN:VEVENT
DTSTART;TZID=America/New_York:20251018T193000
DTEND;TZID=America/New_York:20251018T233000
DTSTAMP:20260425T074951
CREATED:20251003T000846Z
LAST-MODIFIED:20251003T000846Z
UID:1131-1760815800-1760830200@thefoxandthefiddle.com
SUMMARY:The Fenton Hotel
DESCRIPTION:The Fenton Hotel is where you wanna be for fun\, food\, music and dancing. See you there.
URL:https://thefoxandthefiddle.com/event/the-fenton-hotel-29/
LOCATION:Fenton Hotel\, 302 N Leroy St.\, Fenton\, MI\, 48430\, United States
CATEGORIES:Fox and The Fiddle,Schedule
ATTACH;FMTTYPE=image/jpeg:https://thefoxandthefiddle.com/wp-content/uploads/2022/10/Fenton-Hotel-and-restaurant.jpg
END:VEVENT
BEGIN:VEVENT
DTSTART;TZID=America/New_York:20251024T193000
DTEND;TZID=America/New_York:20251024T233000
DTSTAMP:20260425T074951
CREATED:20251024T030303Z
LAST-MODIFIED:20251024T030303Z
UID:1137-1761334200-1761348600@thefoxandthefiddle.com
SUMMARY:The Fenton Hotel
DESCRIPTION:The Fenton Hotel is such a great place to come and have a special night with someone you love. The atmosphere and food and people are really fantastic. Come sit up at the seven top horse shoe bar and see us up close and personal. See you there at The Fenton Hotel.
URL:https://thefoxandthefiddle.com/event/the-fenton-hotel-30/
LOCATION:Fenton Hotel\, 302 N Leroy St.\, Fenton\, MI\, 48430\, United States
CATEGORIES:Fox and The Fiddle,Schedule
ATTACH;FMTTYPE=image/jpeg:https://thefoxandthefiddle.com/wp-content/uploads/2022/10/Fenton-Hotel-and-restaurant.jpg
END:VEVENT
BEGIN:VEVENT
DTSTART;TZID=America/New_York:20251025T093000
DTEND;TZID=America/New_York:20251025T140000
DTSTAMP:20260425T074951
CREATED:20251024T031359Z
LAST-MODIFIED:20251024T031359Z
UID:1141-1761384600-1761400800@thefoxandthefiddle.com
SUMMARY:Farmington Farmers Market
DESCRIPTION:Farmington Farmers Market. See you there!!!
URL:https://thefoxandthefiddle.com/event/farmington-farmers-market-9/
LOCATION:Farmington Farmers Market\, 33113 Grand Rover Ave\, Farmington\, 48336\, United States
CATEGORIES:Fox and The Fiddle,Schedule
ATTACH;FMTTYPE=image/jpeg:https://thefoxandthefiddle.com/wp-content/uploads/2021/09/OIP.jpg
END:VEVENT
BEGIN:VEVENT
DTSTART;TZID=America/New_York:20251025T193000
DTEND;TZID=America/New_York:20251025T233000
DTSTAMP:20260425T074951
CREATED:20251024T030658Z
LAST-MODIFIED:20251024T030658Z
UID:1139-1761420600-1761435000@thefoxandthefiddle.com
SUMMARY:The Fenton Hotel with Austin and Anton
DESCRIPTION:Saturday night in Fenton with your friends The Fox and the Fiddle is always a good bet even when the fiddle will not be there. Join Austin and Anton for a great night of heart thumping boot stomping country music filled with electric guitar and dance beats for the world to dance to.
URL:https://thefoxandthefiddle.com/event/the-fenton-hotel-with-austin-and-anton/
LOCATION:Fenton Hotel\, 302 N Leroy St.\, Fenton\, MI\, 48430\, United States
CATEGORIES:Fox and The Fiddle,Schedule
ATTACH;FMTTYPE=image/jpeg:https://thefoxandthefiddle.com/wp-content/uploads/2022/10/Fenton-Hotel-and-restaurant.jpg
END:VEVENT
END:VCALENDAR