BEGIN:VCALENDAR
VERSION:2.0
PRODID:-//The Fox and the Fiddle - ECPv6.13.2.1//NONSGML v1.0//EN
CALSCALE:GREGORIAN
METHOD:PUBLISH
X-ORIGINAL-URL:https://thefoxandthefiddle.com
X-WR-CALDESC:Events for The Fox and the Fiddle
REFRESH-INTERVAL;VALUE=DURATION:PT1H
X-Robots-Tag:noindex
X-PUBLISHED-TTL:PT1H
BEGIN:VTIMEZONE
TZID:America/New_York
BEGIN:DAYLIGHT
TZOFFSETFROM:-0500
TZOFFSETTO:-0400
TZNAME:EDT
DTSTART:20250309T070000
END:DAYLIGHT
BEGIN:STANDARD
TZOFFSETFROM:-0400
TZOFFSETTO:-0500
TZNAME:EST
DTSTART:20251102T060000
END:STANDARD
END:VTIMEZONE
BEGIN:VEVENT
DTSTART;TZID=America/New_York:20250824T160000
DTEND;TZID=America/New_York:20250824T180000
DTSTAMP:20260425T121228
CREATED:20250731T013837Z
LAST-MODIFIED:20250731T013837Z
UID:1077-1756051200-1756058400@thefoxandthefiddle.com
SUMMARY:Jefferons Yacht Club for The Michigan Musky Meet Up
DESCRIPTION:Our event is for the veteran where money is raised to take out two dozen veterans fishing and to feed them and we sing and honor them for their service. It is an honor to be asked to play for our countries heroes. See you there at the Yacht Club.
URL:https://thefoxandthefiddle.com/event/jefferons-yacht-club-for-the-michigan-musky-meet-up/
LOCATION:Jefferson Yacht Club\, 24504 Jefferson Ave\, Saint Clair Shores\, MI\, 48080\, United States
CATEGORIES:Fox and The Fiddle,Schedule
ATTACH;FMTTYPE=image/png:https://thefoxandthefiddle.com/wp-content/uploads/2025/07/JYC-logo.png
END:VEVENT
END:VCALENDAR