BEGIN:VCALENDAR
VERSION:2.0
PRODID:-//The Fox and the Fiddle - ECPv6.13.2.1//NONSGML v1.0//EN
CALSCALE:GREGORIAN
METHOD:PUBLISH
X-ORIGINAL-URL:https://thefoxandthefiddle.com
X-WR-CALDESC:Events for The Fox and the Fiddle
REFRESH-INTERVAL;VALUE=DURATION:PT1H
X-Robots-Tag:noindex
X-PUBLISHED-TTL:PT1H
BEGIN:VTIMEZONE
TZID:America/New_York
BEGIN:DAYLIGHT
TZOFFSETFROM:-0500
TZOFFSETTO:-0400
TZNAME:EDT
DTSTART:20250309T070000
END:DAYLIGHT
BEGIN:STANDARD
TZOFFSETFROM:-0400
TZOFFSETTO:-0500
TZNAME:EST
DTSTART:20251102T060000
END:STANDARD
END:VTIMEZONE
BEGIN:VEVENT
DTSTART;TZID=America/New_York:20251005T130000
DTEND;TZID=America/New_York:20251005T160000
DTSTAMP:20260425T093133
CREATED:20250918T232859Z
LAST-MODIFIED:20250918T232859Z
UID:1106-1759669200-1759680000@thefoxandthefiddle.com
SUMMARY:Sylvan Lake Community Center Pumpkin Festival
DESCRIPTION:Join us for fun\, pumpkins\, music\, snacks\, and treats\, with the entire neighborhood and your friend The Fox and the Fiddle at The Sylvan Lake Community Center.
URL:https://thefoxandthefiddle.com/event/sylvan-lake-community-center-pumpkin-festival/
LOCATION:Sylvan Lake Community Center\, 2456 Pontiac Dr.\, Sylvan Lake\, Mi\, 48320
CATEGORIES:Fox and The Fiddle,Schedule
ATTACH;FMTTYPE=image/jpeg:https://thefoxandthefiddle.com/wp-content/uploads/2025/09/c-b-p-g.jpg
END:VEVENT
END:VCALENDAR