BEGIN:VCALENDAR
VERSION:2.0
PRODID:-//The Fox and the Fiddle - ECPv6.13.2.1//NONSGML v1.0//EN
CALSCALE:GREGORIAN
METHOD:PUBLISH
X-WR-CALNAME:The Fox and the Fiddle
X-ORIGINAL-URL:https://thefoxandthefiddle.com
X-WR-CALDESC:Events for The Fox and the Fiddle
REFRESH-INTERVAL;VALUE=DURATION:PT1H
X-Robots-Tag:noindex
X-PUBLISHED-TTL:PT1H
BEGIN:VTIMEZONE
TZID:America/New_York
BEGIN:DAYLIGHT
TZOFFSETFROM:-0500
TZOFFSETTO:-0400
TZNAME:EDT
DTSTART:20260308T070000
END:DAYLIGHT
BEGIN:STANDARD
TZOFFSETFROM:-0400
TZOFFSETTO:-0500
TZNAME:EST
DTSTART:20261101T060000
END:STANDARD
END:VTIMEZONE
BEGIN:VEVENT
DTSTART;TZID=America/New_York:20260214T100000
DTEND;TZID=America/New_York:20260214T120000
DTSTAMP:20260424T233957
CREATED:20260120T004917Z
LAST-MODIFIED:20260120T005406Z
UID:1201-1771063200-1771070400@thefoxandthefiddle.com
SUMMARY:Royal Oak Farmers Market
DESCRIPTION:Grateful for all the wonderful things that we have in this world like the chance to sing for the wonderful people at the Royal Oak Farmers Market in beautiful Royal Oak Michigan.
URL:https://thefoxandthefiddle.com/event/royal-oak-farmers-market-25/
LOCATION:Royal Oak Farmers Market\, 316 E 11mile rd\, Royal Oak\, MI\, 48067\, United States
CATEGORIES:Fox and The Fiddle,Schedule
ATTACH;FMTTYPE=image/jpeg:https://thefoxandthefiddle.com/wp-content/uploads/2021/10/royal-oak-farmers-marjket.jpg
END:VEVENT
BEGIN:VEVENT
DTSTART;TZID=America/New_York:20260214T200000
DTEND;TZID=America/New_York:20260214T233000
DTSTAMP:20260424T233957
CREATED:20260203T051736Z
LAST-MODIFIED:20260203T051920Z
UID:1208-1771099200-1771111800@thefoxandthefiddle.com
SUMMARY:Fishbones featuring Austin and Anton
DESCRIPTION:Happy Valentines Day everyone! We are so grateful to be performing at such an incredible place like Fishbones and to be get the chance to sing fort all the people for Valentines Day. See you there with your favorite electric guitar player\, the amazing Anton Simper.
URL:https://thefoxandthefiddle.com/event/fishbones-featuring-austin-and-anton-2/
LOCATION:Fishbone’s\, 23722 Jefferson Ave\, St. Clair Shores\, Michigan\, 48080
CATEGORIES:Fox and The Fiddle,Schedule
ATTACH;FMTTYPE=image/webp:https://thefoxandthefiddle.com/wp-content/uploads/2025/05/fishbones-st-clair-shores-main-375939491-439.webp
END:VEVENT
END:VCALENDAR