BEGIN:VCALENDAR
VERSION:2.0
PRODID:-//The Fox and the Fiddle - ECPv6.13.2.1//NONSGML v1.0//EN
CALSCALE:GREGORIAN
METHOD:PUBLISH
X-ORIGINAL-URL:https://thefoxandthefiddle.com
X-WR-CALDESC:Events for The Fox and the Fiddle
REFRESH-INTERVAL;VALUE=DURATION:PT1H
X-Robots-Tag:noindex
X-PUBLISHED-TTL:PT1H
BEGIN:VTIMEZONE
TZID:America/New_York
BEGIN:DAYLIGHT
TZOFFSETFROM:-0500
TZOFFSETTO:-0400
TZNAME:EDT
DTSTART:20250309T070000
END:DAYLIGHT
BEGIN:STANDARD
TZOFFSETFROM:-0400
TZOFFSETTO:-0500
TZNAME:EST
DTSTART:20251102T060000
END:STANDARD
END:VTIMEZONE
BEGIN:VEVENT
DTSTART;TZID=America/New_York:20250829T210000
DTEND;TZID=America/New_York:20250829T235900
DTSTAMP:20260424T231436
CREATED:20250715T230651Z
LAST-MODIFIED:20250718T210458Z
UID:1036-1756501200-1756511940@thefoxandthefiddle.com
SUMMARY:Johnny Blacks Whiskey Park
DESCRIPTION:Come to Auburn Hills and join us for a fun filled night of music and dancing. The food and the whiskey are gonna pair up wonderfully and you never know what might happen when we get a few shots in us. Come and have a fun Friday night with Austin Scott and Anton Simper. See you in Auburn Hills
URL:https://thefoxandthefiddle.com/event/johnny-blacks-whiskey-park/
LOCATION:Johnny Blacks Whiskey Park\, 3320 Aubrun Rd.\, Auburn Hills\, MI\, 48326\, United States
CATEGORIES:Fox and The Fiddle,Schedule
ATTACH;FMTTYPE=image/jpeg:https://thefoxandthefiddle.com/wp-content/uploads/2025/07/unnamed.jpg
END:VEVENT
BEGIN:VEVENT
DTSTART;TZID=America/New_York:20250824T160000
DTEND;TZID=America/New_York:20250824T180000
DTSTAMP:20260424T231436
CREATED:20250731T013837Z
LAST-MODIFIED:20250731T013837Z
UID:1077-1756051200-1756058400@thefoxandthefiddle.com
SUMMARY:Jefferons Yacht Club for The Michigan Musky Meet Up
DESCRIPTION:Our event is for the veteran where money is raised to take out two dozen veterans fishing and to feed them and we sing and honor them for their service. It is an honor to be asked to play for our countries heroes. See you there at the Yacht Club.
URL:https://thefoxandthefiddle.com/event/jefferons-yacht-club-for-the-michigan-musky-meet-up/
LOCATION:Jefferson Yacht Club\, 24504 Jefferson Ave\, Saint Clair Shores\, MI\, 48080\, United States
CATEGORIES:Fox and The Fiddle,Schedule
ATTACH;FMTTYPE=image/png:https://thefoxandthefiddle.com/wp-content/uploads/2025/07/JYC-logo.png
END:VEVENT
BEGIN:VEVENT
DTSTART;TZID=America/New_York:20250817T170000
DTEND;TZID=America/New_York:20250817T210000
DTSTAMP:20260424T231436
CREATED:20250731T013102Z
LAST-MODIFIED:20250731T013102Z
UID:1072-1755450000-1755464400@thefoxandthefiddle.com
SUMMARY:Private Party in Petoskey
DESCRIPTION:Private Party in Petoskey
URL:https://thefoxandthefiddle.com/event/private-party-in-petoskey/
LOCATION:Petoskey
CATEGORIES:Fox and The Fiddle,Schedule
ATTACH;FMTTYPE=image/jpeg:https://thefoxandthefiddle.com/wp-content/uploads/2025/07/12.jpg
END:VEVENT
BEGIN:VEVENT
DTSTART;TZID=America/New_York:20250814T180000
DTEND;TZID=America/New_York:20250814T213000
DTSTAMP:20260424T231437
CREATED:20250731T012310Z
LAST-MODIFIED:20250731T012310Z
UID:1068-1755194400-1755207000@thefoxandthefiddle.com
SUMMARY:Goomah Pizza
DESCRIPTION:Join us for pizza and music and drinks and dancing and so much more. You never know who is gonna show up and dance on the dance floor. So mark your calendars and join us at Goomah Pizza.
URL:https://thefoxandthefiddle.com/event/goomah-pizza-2/
LOCATION:Goomah Pizzeria and Live Bait\, 2440 Orchard Lake\, Sylvan Lake\, Mi\, 48320
CATEGORIES:Fox and The Fiddle,Schedule
ATTACH;FMTTYPE=image/jpeg:https://thefoxandthefiddle.com/wp-content/uploads/2025/01/OIP.jpg
END:VEVENT
BEGIN:VEVENT
DTSTART;TZID=America/New_York:20250813T183000
DTEND;TZID=America/New_York:20250813T213000
DTSTAMP:20260424T231437
CREATED:20250731T011956Z
LAST-MODIFIED:20250731T011956Z
UID:1066-1755109800-1755120600@thefoxandthefiddle.com
SUMMARY:Oakland County Boat Club
DESCRIPTION:Join us out on the lake front at The Oakland County Boat Club on Sylvan Lake for amazing food and great music from your friends The Fox and the Fiddle. You have to be a member to drink but if you really wanna go\, let me know and I will see what we can do.
URL:https://thefoxandthefiddle.com/event/oakland-county-boat-club-2/
LOCATION:Oakland County Boat Club\, 2330 Ferndale St\, Sylvan Lake\, MI\, 48320\, United States
CATEGORIES:Fox and The Fiddle,Schedule
ATTACH;FMTTYPE=image/jpeg:https://thefoxandthefiddle.com/wp-content/uploads/2025/06/o-c-b-c.jpg
END:VEVENT
BEGIN:VEVENT
DTSTART;TZID=America/New_York:20250809T100000
DTEND;TZID=America/New_York:20250809T140000
DTSTAMP:20260424T231437
CREATED:20250731T011455Z
LAST-MODIFIED:20250731T011455Z
UID:1064-1754733600-1754748000@thefoxandthefiddle.com
SUMMARY:Farmington Farmers Market
DESCRIPTION:Twice a year we get to go to the amazing city of Farmington and show up to do what we do best\, play our music and make kids dance. Parents love us\, kids adore us. They have donuts\, brocoli and everything in between. See you Farmington for a fantastic day of fun for everyone.
URL:https://thefoxandthefiddle.com/event/farmington-farmers-market-8/
LOCATION:Farmington Farmers Market\, 33113 Grand Rover Ave\, Farmington\, 48336\, United States
CATEGORIES:Fox and The Fiddle,Schedule
ATTACH;FMTTYPE=image/jpeg:https://thefoxandthefiddle.com/wp-content/uploads/2021/09/OIP.jpg
END:VEVENT
BEGIN:VEVENT
DTSTART;TZID=America/New_York:20250807T180000
DTEND;TZID=America/New_York:20250807T210000
DTSTAMP:20260424T231437
CREATED:20250731T011041Z
LAST-MODIFIED:20250731T011041Z
UID:1062-1754589600-1754600400@thefoxandthefiddle.com
SUMMARY:Flint Market Tap
DESCRIPTION:We are so glad and grateful to have been asked to be a part of The Flint Market Taps musical line up. For almost three years now we climb those steps and ride that elevator to the second floor and perform for the loving\, hard working\, caring\, kind\, fantastic people of Flint Michigan. See you there at the farmers market building for music\, drinks\, dancing  and The Fox and the Fiddle.
URL:https://thefoxandthefiddle.com/event/flint-market-tap-11/
LOCATION:Market Tap\, 300 E 1st St.\, Flint\, MI\, 48502\, United States
CATEGORIES:Fox and The Fiddle,Schedule
ATTACH;FMTTYPE=image/jpeg:https://thefoxandthefiddle.com/wp-content/uploads/2023/08/Untitled.jpg
END:VEVENT
BEGIN:VEVENT
DTSTART;TZID=America/New_York:20250803T160000
DTEND;TZID=America/New_York:20250803T190000
DTSTAMP:20260424T231437
CREATED:20250731T010548Z
LAST-MODIFIED:20250731T010548Z
UID:1060-1754236800-1754247600@thefoxandthefiddle.com
SUMMARY:Octopus' Beer Garden
DESCRIPTION:We will be under the sea in Mount Clemens Michigan but its gonna feel like Florida on the beach cause when you are the O B G you feel like you are a million miles away and loving every minute of it. See you there and get by with a little help from your friends The Fox and the Fiddle.
URL:https://thefoxandthefiddle.com/event/octopus-beer-garden-4/
LOCATION:Octopus’ Beer Garden\, 152 North River Rd\, Mt. Clemens\, 48043\, United States
CATEGORIES:Fox and The Fiddle,Schedule
ATTACH;FMTTYPE=image/jpeg:https://thefoxandthefiddle.com/wp-content/uploads/2024/10/OIP.jpg
END:VEVENT
BEGIN:VEVENT
DTSTART;TZID=America/New_York:20250802T190000
DTEND;TZID=America/New_York:20250802T230000
DTSTAMP:20260424T231437
CREATED:20250527T233454Z
LAST-MODIFIED:20250527T233454Z
UID:1001-1754161200-1754175600@thefoxandthefiddle.com
SUMMARY:SUNFLOWER Festival @ Earl Farms w/ The Austin Scott Band
DESCRIPTION:What an honor to be asked back to perform at the beautiful farm  in the middle of a Sunflower Field under the prettiest old tree in all of Michigan. This event will be nothing but first class and amazing in every aspect. The food\, the music\, the people and the over all experience will be absolutely incredible. See you in Wixom at Earl Farms Sun Flower Festival with The Austin Scott Band. Tickets must be bought for entry.
URL:https://thefoxandthefiddle.com/event/sunflower-festival-earl-farms-w-the-austin-scott-band/
LOCATION:Earl Farms\, Wixom\, Michigan\, United States
CATEGORIES:Fox and The Fiddle,Schedule
ATTACH;FMTTYPE=image/jpeg:https://thefoxandthefiddle.com/wp-content/uploads/2025/05/Screenshot_20250526_190336_Facebook1-e1748388297340.jpg
END:VEVENT
BEGIN:VEVENT
DTSTART;TZID=America/New_York:20250801T180000
DTEND;TZID=America/New_York:20250801T220000
DTSTAMP:20260424T231437
CREATED:20250527T233046Z
LAST-MODIFIED:20250527T233046Z
UID:998-1754071200-1754085600@thefoxandthefiddle.com
SUMMARY:SUNFLOWER FESTIVAL 2025 @ Earl Farms
DESCRIPTION:What an honor to be asked back to perform at the beautiful farm  in the middle of a Sunflower Field under the prettiest old tree in all of Michigan. This event will be nothing but first class and amazing in every aspect. The food\, the music\, the people and the over all experience will be absolutely incredible. See you in Wixom at Earl Farms Sun Flower Festival with The Fox and the Fiddle. Tickets must be bought for entry.
URL:https://thefoxandthefiddle.com/event/sunflower-festival-2025-earl-farms/
LOCATION:Earl Farms\, Wixom\, Michigan\, United States
CATEGORIES:Fox and The Fiddle,Schedule
ATTACH;FMTTYPE=image/jpeg:https://thefoxandthefiddle.com/wp-content/uploads/2025/05/Screenshot_20250526_190336_Facebook1-e1748388297340.jpg
END:VEVENT
BEGIN:VEVENT
DTSTART;TZID=America/New_York:20250731T200000
DTEND;TZID=America/New_York:20250731T233000
DTSTAMP:20260424T231437
CREATED:20250731T005927Z
LAST-MODIFIED:20250731T005927Z
UID:1056-1753992000-1754004600@thefoxandthefiddle.com
SUMMARY:Oak City Grille
DESCRIPTION:Join us in exciting downtown Royal Oak at The Oak City Grille tomorrow night Thursday July 31st for our final and most amazing performance of July! See you there and thank you for supporting live music and The Fox and the Fiddle.
URL:https://thefoxandthefiddle.com/event/oak-city-grille/
LOCATION:Oak City Grille\, 212 6th St\, Royal Oak\, 48067\, United States
CATEGORIES:Fox and The Fiddle,Schedule
ATTACH;FMTTYPE=image/jpeg:https://thefoxandthefiddle.com/wp-content/uploads/2025/07/OCG.jpg
END:VEVENT
BEGIN:VEVENT
DTSTART;TZID=America/New_York:20250726T193000
DTEND;TZID=America/New_York:20250726T233000
DTSTAMP:20260424T231437
CREATED:20250624T012925Z
LAST-MODIFIED:20250624T012925Z
UID:1031-1753558200-1753572600@thefoxandthefiddle.com
SUMMARY:Fenton Hotel
DESCRIPTION:Fenton Hotel on Saturday night. See you there !!!!
URL:https://thefoxandthefiddle.com/event/fenton-hotel-23/
LOCATION:Fenton Hotel\, 302 N Leroy St.\, Fenton\, MI\, 48430\, United States
CATEGORIES:Fox and The Fiddle,Schedule
ATTACH;FMTTYPE=image/jpeg:https://thefoxandthefiddle.com/wp-content/uploads/2022/10/Fenton-Hotel-and-restaurant.jpg
END:VEVENT
BEGIN:VEVENT
DTSTART;TZID=America/New_York:20250725T193000
DTEND;TZID=America/New_York:20250725T233000
DTSTAMP:20260424T231437
CREATED:20250624T012446Z
LAST-MODIFIED:20250624T012446Z
UID:1029-1753471800-1753486200@thefoxandthefiddle.com
SUMMARY:Fenton Hotel
DESCRIPTION:See you in beautiful downtown Fenton Michigan at one of the most iconic locations at the historic Fenton Hotel. The food is amazing and the music will be excellently played for your your listening pleasure.
URL:https://thefoxandthefiddle.com/event/fenton-hotel-22/
LOCATION:Fenton Hotel\, 302 N Leroy St.\, Fenton\, MI\, 48430\, United States
CATEGORIES:Fox and The Fiddle,Schedule
ATTACH;FMTTYPE=image/jpeg:https://thefoxandthefiddle.com/wp-content/uploads/2022/10/Fenton-Hotel-and-restaurant.jpg
END:VEVENT
BEGIN:VEVENT
DTSTART;TZID=America/New_York:20250724T180000
DTEND;TZID=America/New_York:20250724T213000
DTSTAMP:20260424T231437
CREATED:20250624T012015Z
LAST-MODIFIED:20250624T012015Z
UID:1026-1753380000-1753392600@thefoxandthefiddle.com
SUMMARY:Goomah Pizza
DESCRIPTION:We are excited and ready for another great night at one of our favorite places to perform at in Sylvan Lake. Bring the family\, call your friends and join us musical filled night of pizza and wine with your friends The Fox and the Fiddle at Goomah Pizza.
URL:https://thefoxandthefiddle.com/event/goomah-pizza/
LOCATION:Goomah Pizzeria and Live Bait\, 2440 Orchard Lake\, Sylvan Lake\, Mi\, 48320
CATEGORIES:Fox and The Fiddle,Schedule
ATTACH;FMTTYPE=image/jpeg:https://thefoxandthefiddle.com/wp-content/uploads/2025/01/OIP.jpg
END:VEVENT
BEGIN:VEVENT
DTSTART;TZID=America/New_York:20250723T183000
DTEND;TZID=America/New_York:20250723T213000
DTSTAMP:20260424T231437
CREATED:20250624T010542Z
LAST-MODIFIED:20250624T010542Z
UID:1022-1753295400-1753306200@thefoxandthefiddle.com
SUMMARY:Oakland County Boat Club
DESCRIPTION:Excited to be at this wonderful location. We will be out on the back patio singing for the boaters and lake people in beautiful Sylvan Lake Michigan.
URL:https://thefoxandthefiddle.com/event/oakland-county-boat-club/
LOCATION:Oakland County Boat Club\, 2330 Ferndale St\, Sylvan Lake\, MI\, 48320\, United States
CATEGORIES:Fox and The Fiddle,Schedule
ATTACH;FMTTYPE=image/jpeg:https://thefoxandthefiddle.com/wp-content/uploads/2025/06/o-c-b-c.jpg
END:VEVENT
BEGIN:VEVENT
DTSTART;TZID=America/New_York:20250719T200000
DTEND;TZID=America/New_York:20250719T210000
DTSTAMP:20260424T231437
CREATED:20250715T231727Z
LAST-MODIFIED:20250715T231727Z
UID:1041-1752955200-1752958800@thefoxandthefiddle.com
SUMMARY:The Turn Around Bar
DESCRIPTION:Please join us for a very special Detroit performance this Saturday night at The Turn Around Bar where we will be opening up at 8pm for my favorite Detroit outlaw country band The Orbitsuns !!!  See you in Detroit and get ready to dance the night away! See you there.
URL:https://thefoxandthefiddle.com/event/the-turn-around-bar/
LOCATION:The Turn Around Bar and Grille\, 14619 Kercheval St\, Detroit\, MI\, 48215\, United States
CATEGORIES:Fox and The Fiddle,Schedule
ATTACH;FMTTYPE=image/jpeg:https://thefoxandthefiddle.com/wp-content/uploads/2025/07/turn-around.jpg
END:VEVENT
BEGIN:VEVENT
DTSTART;TZID=America/New_York:20250719T140000
DTEND;TZID=America/New_York:20250719T153000
DTSTAMP:20260424T231437
CREATED:20250624T004956Z
LAST-MODIFIED:20250624T004956Z
UID:1017-1752933600-1752939000@thefoxandthefiddle.com
SUMMARY:Summer Blast in Flat Rock
DESCRIPTION:Join us for in Flat Rock Michigan for the Flat Rock Summer Blast… Music\, games\, food\, and drinks\, and family friendly vendors. See you there !!!!
URL:https://thefoxandthefiddle.com/event/summer-blast-in-flat-rock/
LOCATION:Flat Rock City Hall\, 25500 Gibralter Rd\, Flat Rock\, MI\, 48134-1335\, United States
CATEGORIES:Fox and The Fiddle,Schedule
ATTACH;FMTTYPE=image/jpeg:https://thefoxandthefiddle.com/wp-content/uploads/2025/06/Flar-Rock-pic-e1752621669663.jpg
END:VEVENT
BEGIN:VEVENT
DTSTART;TZID=America/New_York:20250712T100000
DTEND;TZID=America/New_York:20250712T120000
DTSTAMP:20260424T231437
CREATED:20250624T002950Z
LAST-MODIFIED:20250624T002950Z
UID:1015-1752314400-1752321600@thefoxandthefiddle.com
SUMMARY:Royal Oak Farmers Market
DESCRIPTION:We are back at one of our most favorite places to be at on a beautiful Saturday morning in Royal Oak. Come join us for fun\, music\, groceries and happy smiling people. We will be there from 10am to noon. See you at the market.
URL:https://thefoxandthefiddle.com/event/royal-oak-farmers-market-19/
LOCATION:Royal Oak Farmers Market\, 316 E 11mile rd\, Royal Oak\, MI\, 48067\, United States
CATEGORIES:Fox and The Fiddle,Schedule
ATTACH;FMTTYPE=image/jpeg:https://thefoxandthefiddle.com/wp-content/uploads/2021/10/royal-oak-farmers-marjket.jpg
END:VEVENT
BEGIN:VEVENT
DTSTART;TZID=America/New_York:20250704T200000
DTEND;TZID=America/New_York:20250704T230000
DTSTAMP:20260424T231437
CREATED:20250624T002552Z
LAST-MODIFIED:20250624T002552Z
UID:1013-1751659200-1751670000@thefoxandthefiddle.com
SUMMARY:The Watermark Bar and Grill
DESCRIPTION:This is a special event because we got the full band back together for this one. The Austin Scott Band is back again for another awesome performance on the fourth of July. See you there on the water in St Clair Shores.
URL:https://thefoxandthefiddle.com/event/the-watermark-bar-and-grill/
LOCATION:The Watermark\, 24420 Jeffeson Ave\, Saint Clir Shores\, MI\, 48080\, United States
CATEGORIES:Fox and The Fiddle,Schedule
ATTACH;FMTTYPE=image/png:https://thefoxandthefiddle.com/wp-content/uploads/2023/12/WatermarkBarGrill24420SaintClairShoresMI.png
END:VEVENT
BEGIN:VEVENT
DTSTART;TZID=America/New_York:20250703T180000
DTEND;TZID=America/New_York:20250703T220000
DTSTAMP:20260424T231437
CREATED:20250624T001924Z
LAST-MODIFIED:20250624T001924Z
UID:1011-1751565600-1751580000@thefoxandthefiddle.com
SUMMARY:Private House Party
DESCRIPTION:I usually do not put these on the web site but I felt like doing it so nobody would try to book this date.
URL:https://thefoxandthefiddle.com/event/private-house-party/
LOCATION:MI
CATEGORIES:Fox and The Fiddle,Schedule
ATTACH;FMTTYPE=image/jpeg:https://thefoxandthefiddle.com/wp-content/uploads/2022/08/private.jpg
END:VEVENT
BEGIN:VEVENT
DTSTART;TZID=America/New_York:20250621T120000
DTEND;TZID=America/New_York:20250621T230000
DTSTAMP:20260424T231437
CREATED:20250503T205456Z
LAST-MODIFIED:20250503T205456Z
UID:984-1750507200-1750546800@thefoxandthefiddle.com
SUMMARY:Brighton's Country Boots and Beats Festival
DESCRIPTION:Join us at the Brighton Country Fest featuring the amazing artists Louie Lee\, The Y’all Band\, The Jacki Daniels Show\, Jason Harper\, Rob Stone\, and your friends The Fox and the Fiddle.
URL:https://thefoxandthefiddle.com/event/brightons-country-boots-and-beats-festival/
LOCATION:Brighton  Ampitheater aka the AMP\, Millpond Trail\, Brighton\, 48116\, United States
CATEGORIES:Fox and The Fiddle,Schedule
ATTACH;FMTTYPE=image/jpeg:https://thefoxandthefiddle.com/wp-content/uploads/2025/05/Screenshot_20250326_161649_Messages.jpg
END:VEVENT
BEGIN:VEVENT
DTSTART;TZID=America/New_York:20250620T170000
DTEND;TZID=America/New_York:20250620T210000
DTSTAMP:20260424T231437
CREATED:20250610T155321Z
LAST-MODIFIED:20250610T155321Z
UID:1006-1750438800-1750453200@thefoxandthefiddle.com
SUMMARY:Gone Country Bar Crawl @ Oak City Grille
DESCRIPTION:We are excited to be a part of this amazing city wide event in beautiful Royal OaK Michigan. Come country music fans for a great day of music\, drinking\, line dancing and fun. Get your boots and your hat on for a fun filled day in the country.\nSee you at the Oak City Grill from 5 to 9 for a great performance by The Fox and the Fiddle.
URL:https://thefoxandthefiddle.com/event/gone-country-bar-crawl-oak-city-grill-the-fox-and-the-fiddle-live-music/
LOCATION:Oak City Grille\, 212 6th St\, Royal Oak\, 48067\, United States
CATEGORIES:Fox and The Fiddle,Schedule
ATTACH;FMTTYPE=image/jpeg:https://thefoxandthefiddle.com/wp-content/uploads/2025/06/0-1.jpg
END:VEVENT
BEGIN:VEVENT
DTSTART;TZID=America/New_York:20250617T173000
DTEND;TZID=America/New_York:20250617T190000
DTSTAMP:20260424T231437
CREATED:20250503T203951Z
LAST-MODIFIED:20250527T225923Z
UID:982-1750181400-1750186800@thefoxandthefiddle.com
SUMMARY:Ryman Auditorium - Nashville Tn
DESCRIPTION:We are back again for a third year in a row and we could not be more excited. Come join us at the mother church of country music The Ryman Auditorium in the heart of Nashville Tennessee for Pick’n on the Plaza with your truly grateful country music duo The Fox and the Fiddle.
URL:https://thefoxandthefiddle.com/event/ryman-auditorium-nashville-tn/
LOCATION:Ryman Auditorium\, 115 5th Ave South\, Nashville\, TN\, 37219\, United States
CATEGORIES:Fox and The Fiddle,Schedule
ATTACH;FMTTYPE=image/jpeg:https://thefoxandthefiddle.com/wp-content/uploads/2025/05/Fox-and-the-Fiddle-3rd-Ryman-Auditorium-for-Pickn-on-the-Plaza-2025.jpg
END:VEVENT
BEGIN:VEVENT
DTSTART;TZID=America/New_York:20250615T100000
DTEND;TZID=America/New_York:20250615T140000
DTSTAMP:20260424T231437
CREATED:20250503T203259Z
LAST-MODIFIED:20250503T203259Z
UID:980-1749981600-1749996000@thefoxandthefiddle.com
SUMMARY:Birmingham Farmers Market
DESCRIPTION:The Birmingham Farmers Market has everything under the sun. From flowers to pizza\, produce to hot dogs\, and even your good friends The Fox and the Fiddle. We are glad and excited to be back. Come find us down by the river\, we will be there.
URL:https://thefoxandthefiddle.com/event/birmingham-farmers-market-8/
LOCATION:Birmingham Farmers Market\, 620 N Old Woodward Ave\, Birmingham\, MI\, 48009\, United States
CATEGORIES:Fox and The Fiddle,Schedule
ATTACH;FMTTYPE=image/jpeg:https://thefoxandthefiddle.com/wp-content/uploads/2023/05/OIP.jpg
END:VEVENT
BEGIN:VEVENT
DTSTART;TZID=America/New_York:20250611T190000
DTEND;TZID=America/New_York:20250611T210000
DTSTAMP:20260424T231437
CREATED:20250503T202633Z
LAST-MODIFIED:20250503T202633Z
UID:978-1749668400-1749675600@thefoxandthefiddle.com
SUMMARY:Copper Hop Brewing Company
DESCRIPTION:Join us at a very wonderful place in beautiful downtown Saint Clair Shores at The Copper Hop Brewing Company. The food trucks will be there preparing your favorite food and the beer will be ice cold and ready for your enjoyment. So come see The Fox and the Fiddle and enjoy yourselves because you deserve it. See you there!
URL:https://thefoxandthefiddle.com/event/copper-hop-brewing-company/
LOCATION:The Copper Hop\, 23401 Greater Mack Ave\, Saint Clair Shores\, MI\, 48080\, United States
CATEGORIES:Fox and The Fiddle,Schedule
ATTACH;FMTTYPE=image/jpeg:https://thefoxandthefiddle.com/wp-content/uploads/2024/12/copper-hop.jpg
END:VEVENT
BEGIN:VEVENT
DTSTART;TZID=America/New_York:20250607T100000
DTEND;TZID=America/New_York:20250607T120000
DTSTAMP:20260424T231437
CREATED:20250503T201751Z
LAST-MODIFIED:20250503T201751Z
UID:976-1749290400-1749297600@thefoxandthefiddle.com
SUMMARY:Royal Oak Farmers Market
DESCRIPTION:We are glad and excited to be back and ready for another great morning of music and fun. The kids will be dancing and music will be reverberating through the great all of the Royal Oak Farmers Market. See you there !!!
URL:https://thefoxandthefiddle.com/event/royal-oak-farmers-market-18/
LOCATION:Royal Oak Farmers Market\, 316 E 11mile rd\, Royal Oak\, MI\, 48067\, United States
CATEGORIES:Fox and The Fiddle,Schedule
ATTACH;FMTTYPE=image/jpeg:https://thefoxandthefiddle.com/wp-content/uploads/2021/10/royal-oak-farmers-marjket.jpg
END:VEVENT
BEGIN:VEVENT
DTSTART;TZID=America/New_York:20250605T180000
DTEND;TZID=America/New_York:20250605T210000
DTSTAMP:20260424T231437
CREATED:20250528T000056Z
LAST-MODIFIED:20250528T000056Z
UID:1003-1749146400-1749157200@thefoxandthefiddle.com
SUMMARY:Flint Market Tap
DESCRIPTION:We are back in Flint Michigan at The Flint Market Tap for another fun night. We have met some of the best people ever at this amazing place and the journey continues June 5th. See you in Flint.
URL:https://thefoxandthefiddle.com/event/flint-market-tap-10/
LOCATION:Market Tap\, 300 E 1st St.\, Flint\, MI\, 48502\, United States
CATEGORIES:Fox and The Fiddle,Schedule
ATTACH;FMTTYPE=image/jpeg:https://thefoxandthefiddle.com/wp-content/uploads/2023/08/Untitled.jpg
END:VEVENT
BEGIN:VEVENT
DTSTART;TZID=America/New_York:20250601T160000
DTEND;TZID=America/New_York:20250601T190000
DTSTAMP:20260424T231437
CREATED:20250503T200136Z
LAST-MODIFIED:20250503T200136Z
UID:974-1748793600-1748804400@thefoxandthefiddle.com
SUMMARY:Octopus' Beer Garden
DESCRIPTION:This has to be one of the coolest and most unique places we are lucky enough to play at\, so come check it our for yourselves and see what all the praise is about. We will be performing from the pontoon barge in the back and loving every minute of it. See you on the water in Mt Clemens Michigan at Octopus’ Beer Garden.
URL:https://thefoxandthefiddle.com/event/octopus-beer-garden-3/
LOCATION:Octopus’ Beer Garden\, 152 North River Rd\, Mt. Clemens\, 48043\, United States
CATEGORIES:Fox and The Fiddle,Schedule
ATTACH;FMTTYPE=image/jpeg:https://thefoxandthefiddle.com/wp-content/uploads/2024/10/OIP.jpg
END:VEVENT
BEGIN:VEVENT
DTSTART;TZID=America/New_York:20250531T193000
DTEND;TZID=America/New_York:20250531T230000
DTSTAMP:20260424T231437
CREATED:20250526T210550Z
LAST-MODIFIED:20250526T210550Z
UID:988-1748719800-1748732400@thefoxandthefiddle.com
SUMMARY:Fishbone's
DESCRIPTION:We are excited to be back at this amazing location. Get prepared to be swept away to New Orleans for some amazing southern Louisiana style cajun cooking. Your friends The Fox and the Fiddle will be there and are glad to play all your favorite songs for a fun filled night of food\, drinks\, music and dancing. Come join us this Saturday in St Clair Shores.
URL:https://thefoxandthefiddle.com/event/fishbones-the-fox-and-the-fiddle-live-music-st-clair-shores-mi-cajun-new-orleans-food/
LOCATION:Fishbone’s\, 23722 Jefferson Ave\, St. Clair Shores\, Michigan\, 48080
CATEGORIES:Fox and The Fiddle,Schedule
ATTACH;FMTTYPE=image/webp:https://thefoxandthefiddle.com/wp-content/uploads/2025/05/fishbones-st-clair-shores-main-375939491-439.webp
END:VEVENT
BEGIN:VEVENT
DTSTART;TZID=America/New_York:20250531T100000
DTEND;TZID=America/New_York:20250531T120000
DTSTAMP:20260424T231437
CREATED:20250503T194801Z
LAST-MODIFIED:20250503T194801Z
UID:972-1748685600-1748692800@thefoxandthefiddle.com
SUMMARY:The Royal Oak Farmers Market
DESCRIPTION:We meet the nicest and most generous people at the Royal Oak Farmers Market. The best part is the kids who come up and dance with all of their hearts to our music. So grateful for the love we are given. See you at the market.
URL:https://thefoxandthefiddle.com/event/the-royal-oak-farmers-market/
LOCATION:Royal Oak Farmers Market\, 316 E 11mile rd\, Royal Oak\, MI\, 48067\, United States
CATEGORIES:Fox and The Fiddle,Schedule
ATTACH;FMTTYPE=image/jpeg:https://thefoxandthefiddle.com/wp-content/uploads/2021/10/royal-oak-farmers-marjket.jpg
END:VEVENT
END:VCALENDAR