BEGIN:VCALENDAR
VERSION:2.0
PRODID:-//The Fox and the Fiddle - ECPv6.13.2.1//NONSGML v1.0//EN
CALSCALE:GREGORIAN
METHOD:PUBLISH
X-WR-CALNAME:The Fox and the Fiddle
X-ORIGINAL-URL:https://thefoxandthefiddle.com
X-WR-CALDESC:Events for The Fox and the Fiddle
REFRESH-INTERVAL;VALUE=DURATION:PT1H
X-Robots-Tag:noindex
X-PUBLISHED-TTL:PT1H
BEGIN:VTIMEZONE
TZID:America/New_York
BEGIN:DAYLIGHT
TZOFFSETFROM:-0500
TZOFFSETTO:-0400
TZNAME:EDT
DTSTART:20250309T070000
END:DAYLIGHT
BEGIN:STANDARD
TZOFFSETFROM:-0400
TZOFFSETTO:-0500
TZNAME:EST
DTSTART:20251102T060000
END:STANDARD
END:VTIMEZONE
BEGIN:VEVENT
DTSTART;TZID=America/New_York:20250904T180000
DTEND;TZID=America/New_York:20250904T210000
DTSTAMP:20260425T072032
CREATED:20250904T002857Z
LAST-MODIFIED:20250904T002857Z
UID:1082-1757008800-1757019600@thefoxandthefiddle.com
SUMMARY:Market Tap
DESCRIPTION:Flint Michigan has a real jewel of place at the farmers market building\, where The Market Tap is located. See you up stairs on the second floor where you can eat\, drink\, and have some fun with your friends The Fox and the Fiddle.
URL:https://thefoxandthefiddle.com/event/market-tap-2/
LOCATION:Market Tap\, 300 E 1st St.\, Flint\, MI\, 48502\, United States
CATEGORIES:Fox and The Fiddle,Schedule
ATTACH;FMTTYPE=image/jpeg:https://thefoxandthefiddle.com/wp-content/uploads/2023/08/Untitled.jpg
END:VEVENT
BEGIN:VEVENT
DTSTART;TZID=America/New_York:20250909T190000
DTEND;TZID=America/New_York:20250909T220000
DTSTAMP:20260425T072032
CREATED:20250904T004224Z
LAST-MODIFIED:20250904T004224Z
UID:1084-1757444400-1757455200@thefoxandthefiddle.com
SUMMARY:Octopus' Beer Garden
DESCRIPTION:Performing at this amazing location is like a trip to the islands on a yellow submarine. The Octopuses Beer Garden is right on the water and the stage is a floating barge on pontoons. Come enjoy great food\, wonderful people\, and great music at this truly unique location on the Clinton River in beautiful Mt Clemens Michigan. See you there!!!!
URL:https://thefoxandthefiddle.com/event/octopus-beer-garden-5/
LOCATION:Octopus’ Beer Garden\, 152 North River Rd\, Mt. Clemens\, 48043\, United States
CATEGORIES:Fox and The Fiddle,Schedule
ATTACH;FMTTYPE=image/jpeg:https://thefoxandthefiddle.com/wp-content/uploads/2024/10/OIP.jpg
END:VEVENT
BEGIN:VEVENT
DTSTART;TZID=America/New_York:20250911T180000
DTEND;TZID=America/New_York:20250911T213000
DTSTAMP:20260425T072032
CREATED:20250904T004912Z
LAST-MODIFIED:20250904T004912Z
UID:1086-1757613600-1757626200@thefoxandthefiddle.com
SUMMARY:Goomah Pizza and Live Bait
DESCRIPTION:We have been on a hot streak in Keego Harbor and Goomah Pizza is where it all began. The pizza is served hot and the drinks served ice cold. The stage will be set with lights\, a sweet sound system and  your musical friends The Fox and the Fiddle. Come join us for a great night\, kick up your heels and do a little dance while you can. See you there!!!
URL:https://thefoxandthefiddle.com/event/goomah-pizza-and-live-bait/
LOCATION:Goomah Pizzeria and Live Bait\, 2440 Orchard Lake\, Sylvan Lake\, Mi\, 48320
CATEGORIES:Fox and The Fiddle,Schedule
ATTACH;FMTTYPE=image/jpeg:https://thefoxandthefiddle.com/wp-content/uploads/2025/01/OIP.jpg
END:VEVENT
BEGIN:VEVENT
DTSTART;TZID=America/New_York:20250913T100000
DTEND;TZID=America/New_York:20250913T120000
DTSTAMP:20260425T072032
CREATED:20250904T005556Z
LAST-MODIFIED:20250904T005556Z
UID:1088-1757757600-1757764800@thefoxandthefiddle.com
SUMMARY:Royal Oak Farmers Market
DESCRIPTION:You meet the nicest people and can buy everything under the sun at this amazing market. Smoothies\, coffee\, meat snacks\, honey\, candles\, banana bread\, baked goods\, fruit\, pies\, beans\, bread\, fish from Alaska\, vegetables from loving farmers garden and fun enjoyable music from your favorite country music duo the Fox and the Fiddle. See you there !!!
URL:https://thefoxandthefiddle.com/event/royal-oak-farmers-market-21/
LOCATION:Royal Oak Farmers Market\, 316 E 11mile rd\, Royal Oak\, MI\, 48067\, United States
CATEGORIES:Fox and The Fiddle,Schedule
ATTACH;FMTTYPE=image/jpeg:https://thefoxandthefiddle.com/wp-content/uploads/2021/10/royal-oak-farmers-marjket.jpg
END:VEVENT
BEGIN:VEVENT
DTSTART;TZID=America/New_York:20250919T180000
DTEND;TZID=America/New_York:20250919T220000
DTSTAMP:20260425T072032
CREATED:20250904T013026Z
LAST-MODIFIED:20250904T013026Z
UID:1090-1758304800-1758319200@thefoxandthefiddle.com
SUMMARY:Downtown Sips and Sounds
DESCRIPTION:The city of Auburn Hills throws an amazing party with this event. Tons of booths and vendors\, food trucks galore\, a huge stage with amazing bands all in a beautiful park setting on the edge of down towns Riverside Park. Come join us for a great time where the entire town will be out in full force for an awesome event with all the bells and whistles including your friends The Fox and the Fiddle.
URL:https://thefoxandthefiddle.com/event/downtown-sips-and-sounds/
LOCATION:Riverside Park\, 3311Parkways Blvd\, Auburn Hills\, MI\, 48326\, United States
CATEGORIES:Fox and The Fiddle,Schedule
ATTACH;FMTTYPE=image/jpeg:https://thefoxandthefiddle.com/wp-content/uploads/2025/09/sip-and-sounds.jpg
END:VEVENT
BEGIN:VEVENT
DTSTART;TZID=America/New_York:20250920T120000
DTEND;TZID=America/New_York:20250920T180000
DTSTAMP:20260425T072032
CREATED:20250904T014558Z
LAST-MODIFIED:20250904T014646Z
UID:1094-1758369600-1758391200@thefoxandthefiddle.com
SUMMARY:Past Tense Cider Mill
DESCRIPTION:You are gonna be so happy you took the time to drive out to this truly incredible place. Yes\, it is off the beaten path but it is so much more than just a cider mill. I don’t want to spoil the surprise but when you see the Past Tense store you are gonna be like wow!!! I promise you will thank me for the invite. See you there for cider and donuts\, and whole lot more to see and explore.
URL:https://thefoxandthefiddle.com/event/past-tense-cider-mill/
LOCATION:Past Tense Cider Mill\, 1965 Farnsworth Rd\, Lapeer\, MI\, 48446\, United States
CATEGORIES:Fox and The Fiddle,Schedule
ATTACH;FMTTYPE=image/webp:https://thefoxandthefiddle.com/wp-content/uploads/2025/09/past-tense-2.webp
END:VEVENT
BEGIN:VEVENT
DTSTART;TZID=America/New_York:20250927T173000
DTEND;TZID=America/New_York:20250927T213000
DTSTAMP:20260425T072032
CREATED:20250918T230748Z
LAST-MODIFIED:20250918T230948Z
UID:1103-1758994200-1759008600@thefoxandthefiddle.com
SUMMARY:Oakland County Boat Club Oktoberfest
DESCRIPTION:We will be pouring out the barrels of fun for this festive occasion. Join us on the water of Sylvan Lake at The Sylvan Lake Boat Club. This is a members only private event so if you planning on going please reach out and let me know and I will get you in.
URL:https://thefoxandthefiddle.com/event/oakland-county-boat-club-oktober-fest-party/
LOCATION:Oakland County Boat Club\, 2330 Ferndale St\, Sylvan Lake\, MI\, 48320\, United States
CATEGORIES:Fox and The Fiddle,Schedule
ATTACH;FMTTYPE=image/jpeg:https://thefoxandthefiddle.com/wp-content/uploads/2025/06/o-c-b-c.jpg
END:VEVENT
END:VCALENDAR