BEGIN:VCALENDAR
VERSION:2.0
PRODID:-//The Fox and the Fiddle - ECPv6.13.2.1//NONSGML v1.0//EN
CALSCALE:GREGORIAN
METHOD:PUBLISH
X-ORIGINAL-URL:https://thefoxandthefiddle.com
X-WR-CALDESC:Events for The Fox and the Fiddle
REFRESH-INTERVAL;VALUE=DURATION:PT1H
X-Robots-Tag:noindex
X-PUBLISHED-TTL:PT1H
BEGIN:VTIMEZONE
TZID:America/New_York
BEGIN:DAYLIGHT
TZOFFSETFROM:-0500
TZOFFSETTO:-0400
TZNAME:EDT
DTSTART:20250309T070000
END:DAYLIGHT
BEGIN:STANDARD
TZOFFSETFROM:-0400
TZOFFSETTO:-0500
TZNAME:EST
DTSTART:20251102T060000
END:STANDARD
END:VTIMEZONE
BEGIN:VEVENT
DTSTART;TZID=America/New_York:20250531T100000
DTEND;TZID=America/New_York:20250531T120000
DTSTAMP:20260425T231521
CREATED:20250503T194801Z
LAST-MODIFIED:20250503T194801Z
UID:972-1748685600-1748692800@thefoxandthefiddle.com
SUMMARY:The Royal Oak Farmers Market
DESCRIPTION:We meet the nicest and most generous people at the Royal Oak Farmers Market. The best part is the kids who come up and dance with all of their hearts to our music. So grateful for the love we are given. See you at the market.
URL:https://thefoxandthefiddle.com/event/the-royal-oak-farmers-market/
LOCATION:Royal Oak Farmers Market\, 316 E 11mile rd\, Royal Oak\, MI\, 48067\, United States
CATEGORIES:Fox and The Fiddle,Schedule
ATTACH;FMTTYPE=image/jpeg:https://thefoxandthefiddle.com/wp-content/uploads/2021/10/royal-oak-farmers-marjket.jpg
END:VEVENT
BEGIN:VEVENT
DTSTART;TZID=America/New_York:20250531T193000
DTEND;TZID=America/New_York:20250531T230000
DTSTAMP:20260425T231521
CREATED:20250526T210550Z
LAST-MODIFIED:20250526T210550Z
UID:988-1748719800-1748732400@thefoxandthefiddle.com
SUMMARY:Fishbone's
DESCRIPTION:We are excited to be back at this amazing location. Get prepared to be swept away to New Orleans for some amazing southern Louisiana style cajun cooking. Your friends The Fox and the Fiddle will be there and are glad to play all your favorite songs for a fun filled night of food\, drinks\, music and dancing. Come join us this Saturday in St Clair Shores.
URL:https://thefoxandthefiddle.com/event/fishbones-the-fox-and-the-fiddle-live-music-st-clair-shores-mi-cajun-new-orleans-food/
LOCATION:Fishbone’s\, 23722 Jefferson Ave\, St. Clair Shores\, Michigan\, 48080
CATEGORIES:Fox and The Fiddle,Schedule
ATTACH;FMTTYPE=image/webp:https://thefoxandthefiddle.com/wp-content/uploads/2025/05/fishbones-st-clair-shores-main-375939491-439.webp
END:VEVENT
END:VCALENDAR