BEGIN:VCALENDAR
VERSION:2.0
PRODID:-//The Fox and the Fiddle - ECPv6.13.2.1//NONSGML v1.0//EN
CALSCALE:GREGORIAN
METHOD:PUBLISH
X-ORIGINAL-URL:https://thefoxandthefiddle.com
X-WR-CALDESC:Events for The Fox and the Fiddle
REFRESH-INTERVAL;VALUE=DURATION:PT1H
X-Robots-Tag:noindex
X-PUBLISHED-TTL:PT1H
BEGIN:VTIMEZONE
TZID:America/New_York
BEGIN:DAYLIGHT
TZOFFSETFROM:-0500
TZOFFSETTO:-0400
TZNAME:EDT
DTSTART:20250309T070000
END:DAYLIGHT
BEGIN:STANDARD
TZOFFSETFROM:-0400
TZOFFSETTO:-0500
TZNAME:EST
DTSTART:20251102T060000
END:STANDARD
END:VTIMEZONE
BEGIN:VEVENT
DTSTART;TZID=America/New_York:20250814T180000
DTEND;TZID=America/New_York:20250814T213000
DTSTAMP:20260425T102032
CREATED:20250731T012310Z
LAST-MODIFIED:20250731T012310Z
UID:1068-1755194400-1755207000@thefoxandthefiddle.com
SUMMARY:Goomah Pizza
DESCRIPTION:Join us for pizza and music and drinks and dancing and so much more. You never know who is gonna show up and dance on the dance floor. So mark your calendars and join us at Goomah Pizza.
URL:https://thefoxandthefiddle.com/event/goomah-pizza-2/
LOCATION:Goomah Pizzeria and Live Bait\, 2440 Orchard Lake\, Sylvan Lake\, Mi\, 48320
CATEGORIES:Fox and The Fiddle,Schedule
ATTACH;FMTTYPE=image/jpeg:https://thefoxandthefiddle.com/wp-content/uploads/2025/01/OIP.jpg
END:VEVENT
END:VCALENDAR