BEGIN:VCALENDAR
VERSION:2.0
PRODID:-//The Fox and the Fiddle - ECPv6.13.2.1//NONSGML v1.0//EN
CALSCALE:GREGORIAN
METHOD:PUBLISH
X-ORIGINAL-URL:https://thefoxandthefiddle.com
X-WR-CALDESC:Events for The Fox and the Fiddle
REFRESH-INTERVAL;VALUE=DURATION:PT1H
X-Robots-Tag:noindex
X-PUBLISHED-TTL:PT1H
BEGIN:VTIMEZONE
TZID:America/New_York
BEGIN:DAYLIGHT
TZOFFSETFROM:-0500
TZOFFSETTO:-0400
TZNAME:EDT
DTSTART:20260308T070000
END:DAYLIGHT
BEGIN:STANDARD
TZOFFSETFROM:-0400
TZOFFSETTO:-0500
TZNAME:EST
DTSTART:20261101T060000
END:STANDARD
END:VTIMEZONE
BEGIN:VEVENT
DTSTART;TZID=America/New_York:20260328T100000
DTEND;TZID=America/New_York:20260328T120000
DTSTAMP:20260425T121358
CREATED:20260203T052313Z
LAST-MODIFIED:20260203T052313Z
UID:1211-1774692000-1774699200@thefoxandthefiddle.com
SUMMARY:Royal Oak Farmers Market
DESCRIPTION:See you at the market!!!
URL:https://thefoxandthefiddle.com/event/royal-oak-farmers-market-26/
LOCATION:MI
CATEGORIES:Fox and The Fiddle,Schedule
ATTACH;FMTTYPE=image/jpeg:https://thefoxandthefiddle.com/wp-content/uploads/2021/10/royal-oak-farmers-marjket.jpg
END:VEVENT
BEGIN:VEVENT
DTSTART;TZID=America/New_York:20260328T200000
DTEND;TZID=America/New_York:20260328T230000
DTSTAMP:20260425T121358
CREATED:20260228T232322Z
LAST-MODIFIED:20260228T232322Z
UID:1238-1774728000-1774738800@thefoxandthefiddle.com
SUMMARY:Fishbones w/ Austin and Anton
DESCRIPTION:We are most grateful and super excited to be able to have such a great place like Fishbones to play at. Come dance\, eat and drink you night away with friends and family plus great music from Austin and Anton. See you there.
URL:https://thefoxandthefiddle.com/event/fishbones-w-austin-and-anton/
LOCATION:Fishbone’s\, 23722 Jefferson Ave\, St. Clair Shores\, Michigan\, 48080
CATEGORIES:Fox and The Fiddle,Schedule
ATTACH;FMTTYPE=image/webp:https://thefoxandthefiddle.com/wp-content/uploads/2025/05/fishbones-st-clair-shores-main-375939491-439.webp
END:VEVENT
BEGIN:VEVENT
DTSTART;TZID=America/New_York:20260403T150000
DTEND;TZID=America/New_York:20260403T150000
DTSTAMP:20260425T121358
CREATED:20260324T203635Z
LAST-MODIFIED:20260324T203635Z
UID:1240-1775228400-1775228400@thefoxandthefiddle.com
SUMMARY:Who Loves Ya Baby -Tigers Opening Day w Austin and Anton
DESCRIPTION:Detroit Tigers fan come on over to Greek Town and have some fun with Austin and Anton at Greeks Towns best new country bar Who Loves Ya Baby. Excited to be at such a great place! OH YA !!!
URL:https://thefoxandthefiddle.com/event/who-loves-ya-baby-tigers-opening-day-w-austin-and-anton/
LOCATION:Who Loves Ya Baby\, 569 Monroe St.\, Detroit\, MI\, 48226\, United States
CATEGORIES:Fox and The Fiddle,Schedule
ATTACH;FMTTYPE=image/webp:https://thefoxandthefiddle.com/wp-content/uploads/2026/03/OIP.webp
END:VEVENT
BEGIN:VEVENT
DTSTART;TZID=America/New_York:20260411T210000
DTEND;TZID=America/New_York:20260411T233000
DTSTAMP:20260425T121358
CREATED:20260324T205646Z
LAST-MODIFIED:20260324T205646Z
UID:1244-1775941200-1775950200@thefoxandthefiddle.com
SUMMARY:Who Loves Ya Baby with Austin and Anton
DESCRIPTION:Greek Town country bar and so much more “Who Loves Ya Baby” with you friends Austin and Anton. Come join us for a great Saturday night in Greek Town where people are really friendly and glad you are there !!!
URL:https://thefoxandthefiddle.com/event/who-loves-ya-baby-with-austin-and-anton/
LOCATION:Who Loves Ya Baby\, 569 Monroe St.\, Detroit\, MI\, 48226\, United States
CATEGORIES:Fox and The Fiddle,Schedule
ATTACH;FMTTYPE=image/webp:https://thefoxandthefiddle.com/wp-content/uploads/2026/03/OIP.webp
END:VEVENT
BEGIN:VEVENT
DTSTART;TZID=America/New_York:20260417T200000
DTEND;TZID=America/New_York:20260417T230000
DTSTAMP:20260425T121358
CREATED:20260203T052710Z
LAST-MODIFIED:20260203T052710Z
UID:1213-1776456000-1776466800@thefoxandthefiddle.com
SUMMARY:Fenton Hotel
DESCRIPTION:We are so grateful to have such a wonderful place that supports us and enjoys what we do. See you there at The Fenton Hotel.
URL:https://thefoxandthefiddle.com/event/fenton-hotel-24/
LOCATION:Fenton Hotel\, 302 N Leroy St.\, Fenton\, MI\, 48430\, United States
CATEGORIES:Fox and The Fiddle,Schedule
ATTACH;FMTTYPE=image/jpeg:https://thefoxandthefiddle.com/wp-content/uploads/2022/10/Fenton-Hotel-and-restaurant.jpg
END:VEVENT
BEGIN:VEVENT
DTSTART;TZID=America/New_York:20260418T200000
DTEND;TZID=America/New_York:20260418T230000
DTSTAMP:20260425T121358
CREATED:20260203T053032Z
LAST-MODIFIED:20260203T053032Z
UID:1215-1776542400-1776553200@thefoxandthefiddle.com
SUMMARY:Fenton Hotel
DESCRIPTION:You can have a wonderful meal and great time at The Fenton Hotel with your friends The Fox and the Fiddle. See you there!!!
URL:https://thefoxandthefiddle.com/event/fenton-hotel-25/
LOCATION:Fenton Hotel\, 302 N Leroy St.\, Fenton\, MI\, 48430\, United States
CATEGORIES:Fox and The Fiddle,Schedule
ATTACH;FMTTYPE=image/jpeg:https://thefoxandthefiddle.com/wp-content/uploads/2022/10/Fenton-Hotel-and-restaurant.jpg
END:VEVENT
BEGIN:VEVENT
DTSTART;TZID=America/New_York:20260424T200000
DTEND;TZID=America/New_York:20260424T230000
DTSTAMP:20260425T121358
CREATED:20260203T053632Z
LAST-MODIFIED:20260203T053632Z
UID:1217-1777060800-1777071600@thefoxandthefiddle.com
SUMMARY:Fenton Hotel
DESCRIPTION:See you at The Fenton Hotel. A wonderderful place filled with great people.
URL:https://thefoxandthefiddle.com/event/fenton-hotel-26/
LOCATION:Fenton Hotel\, 302 N Leroy St.\, Fenton\, MI\, 48430\, United States
CATEGORIES:Fox and The Fiddle,Schedule
ATTACH;FMTTYPE=image/jpeg:https://thefoxandthefiddle.com/wp-content/uploads/2022/10/Fenton-Hotel-and-restaurant.jpg
END:VEVENT
BEGIN:VEVENT
DTSTART;TZID=America/New_York:20260425T200000
DTEND;TZID=America/New_York:20260425T230000
DTSTAMP:20260425T121358
CREATED:20260203T054057Z
LAST-MODIFIED:20260203T054057Z
UID:1219-1777147200-1777158000@thefoxandthefiddle.com
SUMMARY:Fenton Hotel
DESCRIPTION:The party continues with fun\, dancing\, music\, amazing food\, and cold drinks for all who want to have a fantastic time at The Fenton Hotel with your friends The Fox and the Fiddle.
URL:https://thefoxandthefiddle.com/event/fenton-hotel-27/
LOCATION:Fenton Hotel\, 302 N Leroy St.\, Fenton\, MI\, 48430\, United States
CATEGORIES:Fox and The Fiddle,Schedule
ATTACH;FMTTYPE=image/jpeg:https://thefoxandthefiddle.com/wp-content/uploads/2022/10/Fenton-Hotel-and-restaurant.jpg
END:VEVENT
BEGIN:VEVENT
DTSTART;TZID=America/New_York:20260502T100000
DTEND;TZID=America/New_York:20260502T140000
DTSTAMP:20260425T121358
CREATED:20260324T211214Z
LAST-MODIFIED:20260324T211214Z
UID:1246-1777716000-1777730400@thefoxandthefiddle.com
SUMMARY:Farmington Farmers Market
DESCRIPTION:You meet the nicest people in Farmington and the things they have at this market are so good. So come here the great music of The Fox and the Fiddle and treat yourself and your senses to a wonderful Saturday in Farmington.
URL:https://thefoxandthefiddle.com/event/farmington-farmers-market-10/
LOCATION:Farmington Farmers Market\, 33113 Grand Rover Ave\, Farmington\, 48336\, United States
CATEGORIES:Fox and The Fiddle,Schedule
ATTACH;FMTTYPE=image/jpeg:https://thefoxandthefiddle.com/wp-content/uploads/2021/09/OIP.jpg
END:VEVENT
BEGIN:VEVENT
DTSTART;TZID=America/New_York:20260513T190000
DTEND;TZID=America/New_York:20260513T210000
DTSTAMP:20260425T121358
CREATED:20260221T204612Z
LAST-MODIFIED:20260221T204612Z
UID:1235-1778698800-1778706000@thefoxandthefiddle.com
SUMMARY:Copper Hop Brewery
DESCRIPTION:Excited and grateful to be back at this wonderful place filled with great people. See you at the Copper Hop Brewery for beer\, music\, food and fun with your friends The Fox and the Fiddle
URL:https://thefoxandthefiddle.com/event/copper-hop-brewery-2/
LOCATION:The Copper Hop\, 23401 Greater Mack Ave\, Saint Clair Shores\, MI\, 48080\, United States
CATEGORIES:Fox and The Fiddle,Schedule
ATTACH;FMTTYPE=image/jpeg:https://thefoxandthefiddle.com/wp-content/uploads/2024/12/copper-hop.jpg
END:VEVENT
BEGIN:VEVENT
DTSTART;TZID=America/New_York:20260530T180000
DTEND;TZID=America/New_York:20260530T210000
DTSTAMP:20260425T121358
CREATED:20260324T223934Z
LAST-MODIFIED:20260324T223934Z
UID:1250-1780164000-1780174800@thefoxandthefiddle.com
SUMMARY:Jino's Surf with Austin and Anton
DESCRIPTION:Gino’s Surf featuring Austin and Anton. Harrison Townships best waterfront for music by the water.\nSee you there and thank you for supporting live music.
URL:https://thefoxandthefiddle.com/event/jinos-surf-with-austin-and-anton/
LOCATION:Gino’s Surf\, 37400 Jefferson Ave\, Harrison Township\, MI\, United States
CATEGORIES:Fox and The Fiddle,Schedule
ATTACH;FMTTYPE=image/webp:https://thefoxandthefiddle.com/wp-content/uploads/2026/03/74886983007-ginos-surf-2.webp
END:VEVENT
BEGIN:VEVENT
DTSTART;TZID=America/New_York:20260606T180000
DTEND;TZID=America/New_York:20260606T210000
DTSTAMP:20260425T121358
CREATED:20260324T230600Z
LAST-MODIFIED:20260324T230600Z
UID:1254-1780768800-1780779600@thefoxandthefiddle.com
SUMMARY:Jino's  Harrison Township
DESCRIPTION:We are back as The Fox and the Fiddle. Come to the waterfront at Gino’s Surf for a great night of music\, food\, drinks\, and dancing.  Thank you so much !!
URL:https://thefoxandthefiddle.com/event/jinos-harrison-township/
LOCATION:Gino’s Surf\, 37400 Jefferson Ave\, Harrison Township\, MI\, United States
CATEGORIES:Fox and The Fiddle,Schedule
ATTACH;FMTTYPE=image/webp:https://thefoxandthefiddle.com/wp-content/uploads/2026/03/74886983007-ginos-surf-2.webp
END:VEVENT
BEGIN:VEVENT
DTSTART;TZID=America/New_York:20260610T183000
DTEND;TZID=America/New_York:20260610T213000
DTSTAMP:20260425T121358
CREATED:20260203T060013Z
LAST-MODIFIED:20260203T060013Z
UID:1222-1781116200-1781127000@thefoxandthefiddle.com
SUMMARY:Sylvan Lake Boat Club
DESCRIPTION:Welcome to the lake life with boaters\, lovers of life\, and music from The Fox and the Fiddle. See you for Wine Down Wednesdays in beautiful Sylvan Lake.
URL:https://thefoxandthefiddle.com/event/sylvan-lake-boat-club/
LOCATION:Oakland County Boat Club\, 2330 Ferndale St\, Sylvan Lake\, MI\, 48320\, United States
CATEGORIES:Fox and The Fiddle,Schedule
ATTACH;FMTTYPE=image/jpeg:https://thefoxandthefiddle.com/wp-content/uploads/2025/06/o-c-b-c.jpg
END:VEVENT
BEGIN:VEVENT
DTSTART;TZID=America/New_York:20260614T100000
DTEND;TZID=America/New_York:20260614T140000
DTSTAMP:20260425T121358
CREATED:20260324T231127Z
LAST-MODIFIED:20260324T231127Z
UID:1256-1781431200-1781445600@thefoxandthefiddle.com
SUMMARY:Birmingham Farmers Market
DESCRIPTION:Everything and so much more\, the Birmingham Farmers Market never lets me down. See you there.\nThe Fox and the Fiddle 🙂
URL:https://thefoxandthefiddle.com/event/birmingham-farmers-market-9/
LOCATION:Birmingham Farmers Market\, 620 N Old Woodward Ave\, Birmingham\, MI\, 48009\, United States
CATEGORIES:Fox and The Fiddle,Schedule
ATTACH;FMTTYPE=image/jpeg:https://thefoxandthefiddle.com/wp-content/uploads/2021/10/index.jpgbham-market-pic.jpg
END:VEVENT
BEGIN:VEVENT
DTSTART;TZID=America/New_York:20260627T170000
DTEND;TZID=America/New_York:20260627T200000
DTSTAMP:20260425T121358
CREATED:20260203T061259Z
LAST-MODIFIED:20260221T204724Z
UID:1224-1782579600-1782590400@thefoxandthefiddle.com
SUMMARY:Pond Hill Farm
DESCRIPTION:Pond Hill Farm is going to be an incredible experience for us because it will be our first time playing in Harbor Springs at the incredible winery\, brewery\, cafe\, and market\, plus 200 acres of nature\, with fun for the whole family at Pond Hill Farm.
URL:https://thefoxandthefiddle.com/event/pond-hill-farm/
LOCATION:Pond Hill Farm\, 5699 S Lake Shore Dr\, Harbor Springs\, MI\, 49740\, United States
CATEGORIES:Fox and The Fiddle,Schedule
ATTACH;FMTTYPE=image/jpeg:https://thefoxandthefiddle.com/wp-content/uploads/2026/02/l.jpg
END:VEVENT
BEGIN:VEVENT
DTSTART;TZID=America/New_York:20260708T180000
DTEND;TZID=America/New_York:20260708T193000
DTSTAMP:20260425T121358
CREATED:20260221T201621Z
LAST-MODIFIED:20260221T201621Z
UID:1230-1783533600-1783539000@thefoxandthefiddle.com
SUMMARY:Detroit Zoo  - Concert in the Park
DESCRIPTION:The Detroit Zoo proudly welcomes the return of The Fox and the Fiddle. We are most honored and excited to be able to have such a fantastic opportunity to help give back and support this great organization.
URL:https://thefoxandthefiddle.com/event/detroit-zoo-concert-in-the-park/
LOCATION:Detroit Zoo\, 8450 W 10 Mile Rd.\, Royal Oak\, 48067\, United States
CATEGORIES:Fox and The Fiddle,Schedule
ATTACH;FMTTYPE=image/webp:https://thefoxandthefiddle.com/wp-content/uploads/2026/02/OIP.webp
END:VEVENT
END:VCALENDAR