BEGIN:VCALENDAR
VERSION:2.0
PRODID:-//The Fox and the Fiddle - ECPv6.13.2.1//NONSGML v1.0//EN
CALSCALE:GREGORIAN
METHOD:PUBLISH
X-ORIGINAL-URL:https://thefoxandthefiddle.com
X-WR-CALDESC:Events for The Fox and the Fiddle
REFRESH-INTERVAL;VALUE=DURATION:PT1H
X-Robots-Tag:noindex
X-PUBLISHED-TTL:PT1H
BEGIN:VTIMEZONE
TZID:America/New_York
BEGIN:DAYLIGHT
TZOFFSETFROM:-0500
TZOFFSETTO:-0400
TZNAME:EDT
DTSTART:20240310T070000
END:DAYLIGHT
BEGIN:STANDARD
TZOFFSETFROM:-0400
TZOFFSETTO:-0500
TZNAME:EST
DTSTART:20241103T060000
END:STANDARD
BEGIN:DAYLIGHT
TZOFFSETFROM:-0500
TZOFFSETTO:-0400
TZNAME:EDT
DTSTART:20250309T070000
END:DAYLIGHT
BEGIN:STANDARD
TZOFFSETFROM:-0400
TZOFFSETTO:-0500
TZNAME:EST
DTSTART:20251102T060000
END:STANDARD
END:VTIMEZONE
BEGIN:VEVENT
DTSTART;TZID=America/New_York:20250124T190000
DTEND;TZID=America/New_York:20250124T230000
DTSTAMP:20260425T092935
CREATED:20250103T211941Z
LAST-MODIFIED:20250103T211941Z
UID:921-1737745200-1737759600@thefoxandthefiddle.com
SUMMARY:The Fenton Hotel
DESCRIPTION:Friday nights are blast\, and we hope you have a wonderful time joining us for fun and music\, dinner and drinks at the Fenton Hotel.
URL:https://thefoxandthefiddle.com/event/the-fenton-hotel-26/
LOCATION:Fenton Hotel\, 302 N Leroy St.\, Fenton\, MI\, 48430\, United States
CATEGORIES:Fox and The Fiddle,Schedule
ATTACH;FMTTYPE=image/jpeg:https://thefoxandthefiddle.com/wp-content/uploads/2022/10/Fenton-Hotel-and-restaurant.jpg
END:VEVENT
BEGIN:VEVENT
DTSTART;TZID=America/New_York:20250118T190000
DTEND;TZID=America/New_York:20250118T230000
DTSTAMP:20260425T092935
CREATED:20250103T211532Z
LAST-MODIFIED:20250103T211532Z
UID:919-1737226800-1737241200@thefoxandthefiddle.com
SUMMARY:The Fenton Hotel
DESCRIPTION:See you on Saturday night for another fantastic evening at The Fenton Hotel. Good people\, and times await. So join us The Fox and the Fiddle for music\, drinks\, dancing and fun. See you there!
URL:https://thefoxandthefiddle.com/event/the-fenton-hotel-25/
LOCATION:Fenton Hotel\, 302 N Leroy St.\, Fenton\, MI\, 48430\, United States
CATEGORIES:Fox and The Fiddle,Schedule
ATTACH;FMTTYPE=image/jpeg:https://thefoxandthefiddle.com/wp-content/uploads/2022/10/Fenton-Hotel-and-restaurant.jpg
END:VEVENT
BEGIN:VEVENT
DTSTART;TZID=America/New_York:20250117T190000
DTEND;TZID=America/New_York:20250117T230000
DTSTAMP:20260425T092935
CREATED:20250103T211119Z
LAST-MODIFIED:20250103T211119Z
UID:917-1737140400-1737154800@thefoxandthefiddle.com
SUMMARY:The Fenton Hotel
DESCRIPTION:Come join us for a fun night of music\, food\, drinks\, and dancing at the Fenton Hotel with your friends The Fox and the Fiddle. See you there in beautiful downtown Fenton Michigan.
URL:https://thefoxandthefiddle.com/event/the-fenton-hotel-24/
LOCATION:Fenton Hotel\, 302 N Leroy St.\, Fenton\, MI\, 48430\, United States
CATEGORIES:Fox and The Fiddle,Schedule
ATTACH;FMTTYPE=image/jpeg:https://thefoxandthefiddle.com/wp-content/uploads/2022/10/Fenton-Hotel-and-restaurant.jpg
END:VEVENT
BEGIN:VEVENT
DTSTART;TZID=America/New_York:20250102T190000
DTEND;TZID=America/New_York:20250102T210000
DTSTAMP:20260425T092935
CREATED:20241210T151337Z
LAST-MODIFIED:20241210T151337Z
UID:913-1735844400-1735851600@thefoxandthefiddle.com
SUMMARY:The Copper Hop
DESCRIPTION:We are excited to be playing for the first time at this new venue for us called Th Hopper Hop. We have a special two hour only musical set from 7 to 9pm. Please bring your smiles and your friends and come out and support us. We are most thankful to be welcomed to this new location. See you St. Clair Shores at The Copper Hop.
URL:https://thefoxandthefiddle.com/event/the-copper-hop-beer-live-music-food-the-fox-and-the-fiddle-january-2nd-7-to-9-pm/
LOCATION:The Copper Hop\, 23401 Greater Mack Ave\, Saint Clair Shores\, MI\, 48080\, United States
CATEGORIES:Fox and The Fiddle,Schedule
ATTACH;FMTTYPE=image/jpeg:https://thefoxandthefiddle.com/wp-content/uploads/2024/12/copper-hop.jpg
END:VEVENT
BEGIN:VEVENT
DTSTART;TZID=America/New_York:20241220T200000
DTEND;TZID=America/New_York:20241220T230000
DTSTAMP:20260425T092935
CREATED:20241210T150358Z
LAST-MODIFIED:20241210T150358Z
UID:911-1734724800-1734735600@thefoxandthefiddle.com
SUMMARY:The Watermark
DESCRIPTION:This is a special night and all are welcome to this public event but it is a Austin Scott band gig featuring Anton Simper\, Bobby Clinton and drummer Matt Stahl. 8 to 11pm in beautiful St Clair Shores. See you at the Watermark.
URL:https://thefoxandthefiddle.com/event/the-watermark/
LOCATION:The Watermark\, 24420 Jeffeson Ave\, Saint Clir Shores\, MI\, 48080\, United States
CATEGORIES:Fox and The Fiddle,Schedule
ATTACH;FMTTYPE=image/png:https://thefoxandthefiddle.com/wp-content/uploads/2023/12/WatermarkBarGrill24420SaintClairShoresMI.png
END:VEVENT
BEGIN:VEVENT
DTSTART;TZID=America/New_York:20241212T180000
DTEND;TZID=America/New_York:20241212T210000
DTSTAMP:20260425T092935
CREATED:20241210T145840Z
LAST-MODIFIED:20241210T145840Z
UID:909-1734026400-1734037200@thefoxandthefiddle.com
SUMMARY:Flint Market Tap
DESCRIPTION:We are back for another great night in Flint Michigan at The Flint Market Tap. Join us upstairs on the second floor (6 to 9pm) for drinks\, food\, and your friends The Fox and the Fiddle.
URL:https://thefoxandthefiddle.com/event/flint-market-tap-the-fox-and-the-fiddle-live-music-country-band-fun-food-drinkning-flint-michigan/
LOCATION:Market Tap\, 300 E 1st St.\, Flint\, MI\, 48502\, United States
CATEGORIES:Fox and The Fiddle,Schedule
ATTACH;FMTTYPE=image/jpeg:https://thefoxandthefiddle.com/wp-content/uploads/2023/08/Untitled.jpg
END:VEVENT
BEGIN:VEVENT
DTSTART;TZID=America/New_York:20241205T170000
DTEND;TZID=America/New_York:20241205T200000
DTSTAMP:20260425T092935
CREATED:20241109T205934Z
LAST-MODIFIED:20241109T205934Z
UID:907-1733418000-1733428800@thefoxandthefiddle.com
SUMMARY:Octopus's Beer Garden
DESCRIPTION:We start early this time 5 to 8pm. Lions Game starts right after. Come for the music stay for the football. Thank you to all the wonderful people who are on board with this great place. We are most thankful.
URL:https://thefoxandthefiddle.com/event/octopuss-beer-garden-2/
LOCATION:Octopus’ Beer Garden\, 152 North River Rd\, Mt. Clemens\, 48043\, United States
CATEGORIES:Fox and The Fiddle,Schedule
ATTACH;FMTTYPE=image/jpeg:https://thefoxandthefiddle.com/wp-content/uploads/2024/10/OIP.jpg
END:VEVENT
BEGIN:VEVENT
DTSTART;TZID=America/New_York:20241130T180000
DTEND;TZID=America/New_York:20241130T210000
DTSTAMP:20260425T092935
CREATED:20241024T231130Z
LAST-MODIFIED:20241024T231130Z
UID:900-1732989600-1733000400@thefoxandthefiddle.com
SUMMARY:DOGWOOD'S
DESCRIPTION:Pontiac Michigan is where we will be and its gonna be awesome. Come to DOGWOOD’S and have a great night with The Fox and the Fiddle.
URL:https://thefoxandthefiddle.com/event/dogwoods/
LOCATION:DOGWOODS\, 1101 Walton Blvd Ste 110\, Pontiac\, MI\, 48340\, United States
CATEGORIES:Fox and The Fiddle,Schedule
ATTACH;FMTTYPE=image/jpeg:https://thefoxandthefiddle.com/wp-content/uploads/2024/10/dogwoods.jpg
END:VEVENT
BEGIN:VEVENT
DTSTART;TZID=America/New_York:20241130T100000
DTEND;TZID=America/New_York:20241130T120000
DTSTAMP:20260425T092935
CREATED:20241024T232125Z
LAST-MODIFIED:20241024T232125Z
UID:903-1732960800-1732968000@thefoxandthefiddle.com
SUMMARY:Royal Oak Farmers Market
DESCRIPTION:Come join us for a great morning filled with all the wonderful things the market offers including your friends The Fox and the Fiddle.\nSee you there early morning for music and market fun.
URL:https://thefoxandthefiddle.com/event/royal-oak-farmers-market-15/
LOCATION:Royal Oak Farmers Market\, 316 E 11mile rd\, Royal Oak\, MI\, 48067\, United States
CATEGORIES:Fox and The Fiddle,Schedule
ATTACH;FMTTYPE=image/jpeg:https://thefoxandthefiddle.com/wp-content/uploads/2021/10/royal-oak-farmers-marjket.jpg
END:VEVENT
BEGIN:VEVENT
DTSTART;TZID=America/New_York:20241121T180000
DTEND;TZID=America/New_York:20241121T210000
DTSTAMP:20260425T092935
CREATED:20241024T230820Z
LAST-MODIFIED:20241024T230820Z
UID:898-1732212000-1732222800@thefoxandthefiddle.com
SUMMARY:Flint Market Tap
DESCRIPTION:We are back again at the totally awesome Flint Market Tap. Come join us upstairs and enjoy a fantastic evening with the Fox and the Fiddle. We are putting Flint Michigan back on the map.
URL:https://thefoxandthefiddle.com/event/flint-market-tap-7/
LOCATION:Market Tap\, 300 E 1st St.\, Flint\, MI\, 48502\, United States
CATEGORIES:Fox and The Fiddle,Schedule
ATTACH;FMTTYPE=image/jpeg:https://thefoxandthefiddle.com/wp-content/uploads/2023/08/Untitled.jpg
END:VEVENT
BEGIN:VEVENT
DTSTART;TZID=America/New_York:20241116T180000
DTEND;TZID=America/New_York:20241116T210000
DTSTAMP:20260425T092935
CREATED:20241109T205653Z
LAST-MODIFIED:20241109T205653Z
UID:905-1731780000-1731790800@thefoxandthefiddle.com
SUMMARY:Octopus's Beer Garden
DESCRIPTION:You will be so happy in an Octopus’s garden in the Mt. Clemens. Super excited to be back and enjoy all the wonderful people that are there for fun and music with The Fox and the Fiddle.
URL:https://thefoxandthefiddle.com/event/octopuss-beer-garden/
LOCATION:Octopus’ Beer Garden\, 152 North River Rd\, Mt. Clemens\, 48043\, United States
CATEGORIES:Fox and The Fiddle,Schedule
ATTACH;FMTTYPE=image/jpeg:https://thefoxandthefiddle.com/wp-content/uploads/2024/10/OIP.jpg
END:VEVENT
BEGIN:VEVENT
DTSTART;TZID=America/New_York:20241109T190000
DTEND;TZID=America/New_York:20241109T220000
DTSTAMP:20260425T092935
CREATED:20241024T230020Z
LAST-MODIFIED:20241024T230020Z
UID:896-1731178800-1731189600@thefoxandthefiddle.com
SUMMARY:DOGWOOD'S
DESCRIPTION:We are happy to be back at this really great new venue located on the edge of Pontiac and Auburn Hills. Come to DOGWOOD’S and enjoy a great evening of music and excellent food with your friends The Fox and the Fiddle.
URL:https://thefoxandthefiddle.com/event/dogwoods-the-foxc-and-the-fiddle-live-music/
LOCATION:DOGWOODS\, 1101 Walton Blvd Ste 110\, Pontiac\, MI\, 48340\, United States
CATEGORIES:Fox and The Fiddle,Schedule
ATTACH;FMTTYPE=image/jpeg:https://thefoxandthefiddle.com/wp-content/uploads/2024/10/dogwoods.jpg
END:VEVENT
BEGIN:VEVENT
DTSTART;TZID=America/New_York:20241107T180000
DTEND;TZID=America/New_York:20241107T210000
DTSTAMP:20260425T092935
CREATED:20241024T225136Z
LAST-MODIFIED:20241024T225136Z
UID:892-1731002400-1731013200@thefoxandthefiddle.com
SUMMARY:Octopus' Beer Garden
DESCRIPTION:Come to Mt. Clemens and join us for a wonderful night of beer\, fun\, and music with The Fox and the Fiddle right on the river !!!
URL:https://thefoxandthefiddle.com/event/octopus-beer-garden/
LOCATION:Octopus’ Beer Garden\, 152 North River Rd\, Mt. Clemens\, 48043\, United States
CATEGORIES:Fox and The Fiddle,Schedule
ATTACH;FMTTYPE=image/jpeg:https://thefoxandthefiddle.com/wp-content/uploads/2024/10/OIP.jpg
END:VEVENT
BEGIN:VEVENT
DTSTART;TZID=America/New_York:20241026T193000
DTEND;TZID=America/New_York:20241026T233000
DTSTAMP:20260425T092935
CREATED:20241008T201819Z
LAST-MODIFIED:20241008T201819Z
UID:887-1729971000-1729985400@thefoxandthefiddle.com
SUMMARY:The Fenton Hotel
DESCRIPTION:We are back for another amazing weekend at The Fenton Hotel. See you there both Friday and Saturday nights and tell your friends.
URL:https://thefoxandthefiddle.com/event/the-fenton-hotel-23/
LOCATION:Fenton Hotel\, 302 N Leroy St.\, Fenton\, MI\, 48430\, United States
CATEGORIES:Fox and The Fiddle,Schedule
ATTACH;FMTTYPE=image/jpeg:https://thefoxandthefiddle.com/wp-content/uploads/2022/10/Fenton-Hotel-and-restaurant.jpg
END:VEVENT
BEGIN:VEVENT
DTSTART;TZID=America/New_York:20241025T193000
DTEND;TZID=America/New_York:20241025T233000
DTSTAMP:20260425T092935
CREATED:20241008T201707Z
LAST-MODIFIED:20241008T201707Z
UID:885-1729884600-1729899000@thefoxandthefiddle.com
SUMMARY:The Fenton Hotel
DESCRIPTION:We are back for another amazing weekend at The Fenton Hotel. See you there both Friday and Saturday nights and tell your friends.
URL:https://thefoxandthefiddle.com/event/the-fenton-hotel-22/
CATEGORIES:Fox and The Fiddle,Schedule
ATTACH;FMTTYPE=image/jpeg:https://thefoxandthefiddle.com/wp-content/uploads/2022/10/Fenton-Hotel-and-restaurant.jpg
END:VEVENT
BEGIN:VEVENT
DTSTART;TZID=America/New_York:20241019T193000
DTEND;TZID=America/New_York:20241019T233000
DTSTAMP:20260425T092935
CREATED:20241008T201447Z
LAST-MODIFIED:20241008T201447Z
UID:883-1729366200-1729380600@thefoxandthefiddle.com
SUMMARY:The Fenton Hotel
DESCRIPTION:We are back for another amazing weekend at The Fenton Hotel. See you there both Friday and Saturday nights and tell your friends.
URL:https://thefoxandthefiddle.com/event/the-fenton-hotel-21/
LOCATION:Fenton Hotel\, 302 N Leroy St.\, Fenton\, MI\, 48430\, United States
CATEGORIES:Fox and The Fiddle,Schedule
ATTACH;FMTTYPE=image/jpeg:https://thefoxandthefiddle.com/wp-content/uploads/2022/10/Fenton-Hotel-and-restaurant.jpg
END:VEVENT
BEGIN:VEVENT
DTSTART;TZID=America/New_York:20241018T193000
DTEND;TZID=America/New_York:20241018T233000
DTSTAMP:20260425T092935
CREATED:20241008T200553Z
LAST-MODIFIED:20241008T200553Z
UID:879-1729279800-1729294200@thefoxandthefiddle.com
SUMMARY:Fenton Hotel
DESCRIPTION:We are back for another amazing weekend at The Fenton Hotel. See you there both Friday and Saturday nights and tell your friends.
URL:https://thefoxandthefiddle.com/event/fenton-hotel-17/
LOCATION:Fenton Hotel\, 302 N Leroy St.\, Fenton\, MI\, 48430\, United States
CATEGORIES:Fox and The Fiddle,Schedule
ATTACH;FMTTYPE=image/jpeg:https://thefoxandthefiddle.com/wp-content/uploads/2022/10/Fenton-Hotel-and-restaurant.jpg
END:VEVENT
BEGIN:VEVENT
DTSTART;TZID=America/New_York:20241012T190000
DTEND;TZID=America/New_York:20241012T220000
DTSTAMP:20260425T092935
CREATED:20241008T200252Z
LAST-MODIFIED:20241008T201021Z
UID:876-1728759600-1728770400@thefoxandthefiddle.com
SUMMARY:DOGWOODS Kitchen and Bar
DESCRIPTION:We will be in Pontiac Michigan for the first time ever and we are excited to be performing for the first time at DOGWOODS.
URL:https://thefoxandthefiddle.com/event/dogwoods-kitchen-and-bar/
LOCATION:DOGWOODS\, 1101 Walton Blvd Ste 110\, Pontiac\, MI\, 48340\, United States
CATEGORIES:Fox and The Fiddle,Schedule
ATTACH;FMTTYPE=image/jpeg:https://thefoxandthefiddle.com/wp-content/uploads/2024/10/dogwoods.jpg
END:VEVENT
BEGIN:VEVENT
DTSTART;TZID=America/New_York:20241005T100000
DTEND;TZID=America/New_York:20241005T140000
DTSTAMP:20260425T092935
CREATED:20240902T192017Z
LAST-MODIFIED:20240902T192017Z
UID:874-1728122400-1728136800@thefoxandthefiddle.com
SUMMARY:Farmington Farmers Market
DESCRIPTION:We love playing at this fantastic farmers market. Kind people and lots of great things to enjoy like roasted corn on the cob with lots of butter and fresh hot donuts too. See you there and we hope you have a wonderful time.
URL:https://thefoxandthefiddle.com/event/farmington-farmers-market-7/
LOCATION:Farmington Farmers Market\, 33113 Grand Rover Ave\, Farmington\, 48336\, United States
CATEGORIES:Fox and The Fiddle,Schedule
ATTACH;FMTTYPE=image/jpeg:https://thefoxandthefiddle.com/wp-content/uploads/2023/07/The-Fox-and-the-Fiddle-Music-1080.jpg
END:VEVENT
BEGIN:VEVENT
DTSTART;TZID=America/New_York:20240922T093000
DTEND;TZID=America/New_York:20240922T140000
DTSTAMP:20260425T092935
CREATED:20240902T184956Z
LAST-MODIFIED:20240902T184956Z
UID:872-1726997400-1727013600@thefoxandthefiddle.com
SUMMARY:Birmingham Farmers Market
DESCRIPTION:See you in beautiful Birmingham Michigan right along the river early on Sunday morning for a great market with lots of wonderful things to eat and drink and enjoy.
URL:https://thefoxandthefiddle.com/event/birmingham-farmers-market-7/
LOCATION:Birmingham Farmers Market\, 620 N Old Woodward Ave\, Birmingham\, MI\, 48009\, United States
CATEGORIES:Fox and The Fiddle,Schedule
ATTACH;FMTTYPE=image/jpeg:https://thefoxandthefiddle.com/wp-content/uploads/2021/10/index.jpgbham-market-pic.jpg
END:VEVENT
BEGIN:VEVENT
DTSTART;TZID=America/New_York:20240921T100000
DTEND;TZID=America/New_York:20240921T120000
DTSTAMP:20260425T092935
CREATED:20240902T184646Z
LAST-MODIFIED:20240902T184646Z
UID:870-1726912800-1726920000@thefoxandthefiddle.com
SUMMARY:Royal Oak Farmers Market
DESCRIPTION:We are back for another fantastic morning at the Royal Oak Farmers Market. You will be most impressed with all the amazing selections of goodies and have too haves. Stock up on all your favorite while enjoying the smooth relaxing sounds of the Fox and the Fiddle.
URL:https://thefoxandthefiddle.com/event/royal-oak-farmers-market-14/
LOCATION:Royal Oak Farmers Market\, 316 E 11mile rd\, Royal Oak\, MI\, 48067\, United States
CATEGORIES:Fox and The Fiddle,Schedule
ATTACH;FMTTYPE=image/jpeg:https://thefoxandthefiddle.com/wp-content/uploads/2021/10/royal-oak-farmers-marjket.jpg
END:VEVENT
BEGIN:VEVENT
DTSTART;TZID=America/New_York:20240920T180000
DTEND;TZID=America/New_York:20240920T210000
DTSTAMP:20260425T092935
CREATED:20240902T184216Z
LAST-MODIFIED:20240902T184216Z
UID:867-1726855200-1726866000@thefoxandthefiddle.com
SUMMARY:Septembeer Fest Auburn Hills
DESCRIPTION:Yes we spelled Septembeer Fest correctly because it is all about the beer!!!! Join us for drinking\, music\, and dancing in a sweet park setting for the Auburn Hills Septembeer Fest.
URL:https://thefoxandthefiddle.com/event/septembeer-fest-auburn-hills/
LOCATION:Riverside Park\, 3311Parkways Blvd\, Auburn Hills\, MI\, 48326\, United States
CATEGORIES:Fox and The Fiddle,Schedule
ATTACH;FMTTYPE=image/jpeg:https://thefoxandthefiddle.com/wp-content/uploads/2024/09/th-1.jpg
END:VEVENT
BEGIN:VEVENT
DTSTART;TZID=America/New_York:20240919T180000
DTEND;TZID=America/New_York:20240919T210000
DTSTAMP:20260425T092935
CREATED:20240902T183128Z
LAST-MODIFIED:20240902T183128Z
UID:865-1726768800-1726779600@thefoxandthefiddle.com
SUMMARY:Flint Market Tap
DESCRIPTION:The Flint Market Tap is a wonderful place to visit and enjoy a great evening out on the roof top with awesome live music and good friends. See you in Flint and thank you for supporting live music and local venues.
URL:https://thefoxandthefiddle.com/event/flint-market-tap-6/
LOCATION:Market Tap\, 300 E 1st St.\, Flint\, MI\, 48502\, United States
CATEGORIES:Fox and The Fiddle,Schedule
ATTACH;FMTTYPE=image/jpeg:https://thefoxandthefiddle.com/wp-content/uploads/2023/08/Untitled.jpg
END:VEVENT
BEGIN:VEVENT
DTSTART;TZID=America/New_York:20240917T170000
DTEND;TZID=America/New_York:20240917T200000
DTSTAMP:20260425T092935
CREATED:20240902T182533Z
LAST-MODIFIED:20240902T182533Z
UID:860-1726592400-1726603200@thefoxandthefiddle.com
SUMMARY:Paint Creek Cider Mill
DESCRIPTION:Hello\, you are invited to join us for voter registration day at Paint Creek Cider in beautiful Rochester Michigan. 5pm start.
URL:https://thefoxandthefiddle.com/event/paint-creek-cider-mill/
LOCATION:Paint Creek Cider Mill\, 4480 Orion Rd\, Rochester\, 48306\, United States
CATEGORIES:Fox and The Fiddle,Schedule
ATTACH;FMTTYPE=image/jpeg:https://thefoxandthefiddle.com/wp-content/uploads/2024/09/e3d53a31ba15a10db690729c070cb544_-united-states-michigan-oakland-county-rochester-paint-creek-cider-mill-248-656-3400htm.jpg
END:VEVENT
BEGIN:VEVENT
DTSTART;TZID=America/New_York:20240830T200000
DTEND;TZID=America/New_York:20240830T230000
DTSTAMP:20260425T092935
CREATED:20240718T221246Z
LAST-MODIFIED:20240718T221246Z
UID:849-1725048000-1725058800@thefoxandthefiddle.com
SUMMARY:Whole Hearted Winery
DESCRIPTION:This is our very first time playing here. We like wine and we like New Hudson so we thought hey why not ? See you there at The New Hudson Winery. Times and more info coming soon.
URL:https://thefoxandthefiddle.com/event/whole-hearted-winery/
LOCATION:Whole Hearted Winery\, 56808 Grand River Ave Building A\, New Hudson\, Michigan\, 48165
CATEGORIES:Fox and The Fiddle,Schedule
ATTACH;FMTTYPE=image/jpeg:https://thefoxandthefiddle.com/wp-content/uploads/2024/07/Untitled.jpg
END:VEVENT
BEGIN:VEVENT
DTSTART;TZID=America/New_York:20240823T190000
DTEND;TZID=America/New_York:20240823T210000
DTSTAMP:20260425T092935
CREATED:20240718T222312Z
LAST-MODIFIED:20240718T222312Z
UID:853-1724439600-1724446800@thefoxandthefiddle.com
SUMMARY:Gino's Pizzeria and Restaurant
DESCRIPTION:Hello Keego Harbor Michigan! Join us for our first time playing outside at this super nice pizza place called Gino’s. Come watch The Fox and the Fiddle play for pizza while enjoying the beautiful summer sun. See you in Keego Harbor.
URL:https://thefoxandthefiddle.com/event/ginos-pizzeria-and-restaurant/
LOCATION:Gino’s Pizzaria and Resaurant\, 1999 Cass Lake Rd.\, Keego Harbor\, Michigan
CATEGORIES:Fox and The Fiddle,Schedule
ATTACH;FMTTYPE=image/jpeg:https://thefoxandthefiddle.com/wp-content/uploads/2024/07/ginos_logo2_full.jpeg
END:VEVENT
BEGIN:VEVENT
DTSTART;TZID=America/New_York:20240822T180000
DTEND;TZID=America/New_York:20240822T210000
DTSTAMP:20260425T092935
CREATED:20240718T214728Z
LAST-MODIFIED:20240718T214811Z
UID:847-1724349600-1724360400@thefoxandthefiddle.com
SUMMARY:Flint Market Tap
DESCRIPTION:We are putting Flint Michigan back on the map!!! Come to the best roof top in town and see a great view filled with flowers and music. See you there at The Flint Market Tap.
URL:https://thefoxandthefiddle.com/event/flint-market-tap-5/
LOCATION:Market Tap\, 300 E 1st St.\, Flint\, MI\, 48502\, United States
CATEGORIES:Fox and The Fiddle,Schedule
ATTACH;FMTTYPE=image/jpeg:https://thefoxandthefiddle.com/wp-content/uploads/2023/08/Untitled.jpg
END:VEVENT
BEGIN:VEVENT
DTSTART;TZID=America/New_York:20240810T100000
DTEND;TZID=America/New_York:20240810T140000
DTSTAMP:20260425T092935
CREATED:20240718T214310Z
LAST-MODIFIED:20240718T214310Z
UID:845-1723284000-1723298400@thefoxandthefiddle.com
SUMMARY:Farmington Farmers Market
DESCRIPTION:Join us on a beautiful Saturday morning in Farmington Michigan at the farmers market that has it all\, including The Fox and the Fiddle.
URL:https://thefoxandthefiddle.com/event/farmington-farmers-market-6/
LOCATION:Farmington Farmers Market\, 33113 Grand Rover Ave\, Farmington\, 48336\, United States
CATEGORIES:Fox and The Fiddle,Schedule
ATTACH;FMTTYPE=image/jpeg:https://thefoxandthefiddle.com/wp-content/uploads/2021/09/OIP.jpg
END:VEVENT
BEGIN:VEVENT
DTSTART;TZID=America/New_York:20240727T193000
DTEND;TZID=America/New_York:20240727T233000
DTSTAMP:20260425T092935
CREATED:20240718T213750Z
LAST-MODIFIED:20240718T213750Z
UID:843-1722108600-1722123000@thefoxandthefiddle.com
SUMMARY:The Fenton Hotel
DESCRIPTION:You are invited to a Saturday night with the amazing Fox and Fiddle Band at the wonderful Fenton Hotel. Bring your friends and hang out all night long. OH Ya!!!!
URL:https://thefoxandthefiddle.com/event/the-fenton-hotel-20/
LOCATION:Fenton Hotel\, 302 N Leroy St.\, Fenton\, MI\, 48430\, United States
CATEGORIES:Fox and The Fiddle,Schedule
ATTACH;FMTTYPE=image/jpeg:https://thefoxandthefiddle.com/wp-content/uploads/2022/10/Fenton-Hotel-and-restaurant.jpg
END:VEVENT
BEGIN:VEVENT
DTSTART;TZID=America/New_York:20240726T193000
DTEND;TZID=America/New_York:20240726T233000
DTSTAMP:20260425T092935
CREATED:20240718T212736Z
LAST-MODIFIED:20240718T212736Z
UID:841-1722022200-1722036600@thefoxandthefiddle.com
SUMMARY:The Fenton Hotel
DESCRIPTION:Friday nights are always a fun time with friends and music from The Fox and the Fiddle at The Fenton Hotel.
URL:https://thefoxandthefiddle.com/event/the-fenton-hotel-19/
LOCATION:Fenton Hotel\, 302 N Leroy St.\, Fenton\, MI\, 48430\, United States
CATEGORIES:Fox and The Fiddle,Schedule
ATTACH;FMTTYPE=image/jpeg:https://thefoxandthefiddle.com/wp-content/uploads/2022/10/Fenton-Hotel-and-restaurant.jpg
END:VEVENT
END:VCALENDAR