BEGIN:VCALENDAR
VERSION:2.0
PRODID:-//The Fox and the Fiddle - ECPv6.13.2.1//NONSGML v1.0//EN
CALSCALE:GREGORIAN
METHOD:PUBLISH
X-ORIGINAL-URL:https://thefoxandthefiddle.com
X-WR-CALDESC:Events for The Fox and the Fiddle
REFRESH-INTERVAL;VALUE=DURATION:PT1H
X-Robots-Tag:noindex
X-PUBLISHED-TTL:PT1H
BEGIN:VTIMEZONE
TZID:America/New_York
BEGIN:DAYLIGHT
TZOFFSETFROM:-0500
TZOFFSETTO:-0400
TZNAME:EDT
DTSTART:20230312T070000
END:DAYLIGHT
BEGIN:STANDARD
TZOFFSETFROM:-0400
TZOFFSETTO:-0500
TZNAME:EST
DTSTART:20231105T060000
END:STANDARD
BEGIN:DAYLIGHT
TZOFFSETFROM:-0500
TZOFFSETTO:-0400
TZNAME:EDT
DTSTART:20240310T070000
END:DAYLIGHT
BEGIN:STANDARD
TZOFFSETFROM:-0400
TZOFFSETTO:-0500
TZNAME:EST
DTSTART:20241103T060000
END:STANDARD
END:VTIMEZONE
BEGIN:VEVENT
DTSTART;TZID=America/New_York:20240830T200000
DTEND;TZID=America/New_York:20240830T230000
DTSTAMP:20260425T111943
CREATED:20240718T221246Z
LAST-MODIFIED:20240718T221246Z
UID:849-1725048000-1725058800@thefoxandthefiddle.com
SUMMARY:Whole Hearted Winery
DESCRIPTION:This is our very first time playing here. We like wine and we like New Hudson so we thought hey why not ? See you there at The New Hudson Winery. Times and more info coming soon.
URL:https://thefoxandthefiddle.com/event/whole-hearted-winery/
LOCATION:Whole Hearted Winery\, 56808 Grand River Ave Building A\, New Hudson\, Michigan\, 48165
CATEGORIES:Fox and The Fiddle,Schedule
ATTACH;FMTTYPE=image/jpeg:https://thefoxandthefiddle.com/wp-content/uploads/2024/07/Untitled.jpg
END:VEVENT
BEGIN:VEVENT
DTSTART;TZID=America/New_York:20240823T190000
DTEND;TZID=America/New_York:20240823T210000
DTSTAMP:20260425T111943
CREATED:20240718T222312Z
LAST-MODIFIED:20240718T222312Z
UID:853-1724439600-1724446800@thefoxandthefiddle.com
SUMMARY:Gino's Pizzeria and Restaurant
DESCRIPTION:Hello Keego Harbor Michigan! Join us for our first time playing outside at this super nice pizza place called Gino’s. Come watch The Fox and the Fiddle play for pizza while enjoying the beautiful summer sun. See you in Keego Harbor.
URL:https://thefoxandthefiddle.com/event/ginos-pizzeria-and-restaurant/
LOCATION:Gino’s Pizzaria and Resaurant\, 1999 Cass Lake Rd.\, Keego Harbor\, Michigan
CATEGORIES:Fox and The Fiddle,Schedule
ATTACH;FMTTYPE=image/jpeg:https://thefoxandthefiddle.com/wp-content/uploads/2024/07/ginos_logo2_full.jpeg
END:VEVENT
BEGIN:VEVENT
DTSTART;TZID=America/New_York:20240822T180000
DTEND;TZID=America/New_York:20240822T210000
DTSTAMP:20260425T111943
CREATED:20240718T214728Z
LAST-MODIFIED:20240718T214811Z
UID:847-1724349600-1724360400@thefoxandthefiddle.com
SUMMARY:Flint Market Tap
DESCRIPTION:We are putting Flint Michigan back on the map!!! Come to the best roof top in town and see a great view filled with flowers and music. See you there at The Flint Market Tap.
URL:https://thefoxandthefiddle.com/event/flint-market-tap-5/
LOCATION:Market Tap\, 300 E 1st St.\, Flint\, MI\, 48502\, United States
CATEGORIES:Fox and The Fiddle,Schedule
ATTACH;FMTTYPE=image/jpeg:https://thefoxandthefiddle.com/wp-content/uploads/2023/08/Untitled.jpg
END:VEVENT
BEGIN:VEVENT
DTSTART;TZID=America/New_York:20240810T100000
DTEND;TZID=America/New_York:20240810T140000
DTSTAMP:20260425T111943
CREATED:20240718T214310Z
LAST-MODIFIED:20240718T214310Z
UID:845-1723284000-1723298400@thefoxandthefiddle.com
SUMMARY:Farmington Farmers Market
DESCRIPTION:Join us on a beautiful Saturday morning in Farmington Michigan at the farmers market that has it all\, including The Fox and the Fiddle.
URL:https://thefoxandthefiddle.com/event/farmington-farmers-market-6/
LOCATION:Farmington Farmers Market\, 33113 Grand Rover Ave\, Farmington\, 48336\, United States
CATEGORIES:Fox and The Fiddle,Schedule
ATTACH;FMTTYPE=image/jpeg:https://thefoxandthefiddle.com/wp-content/uploads/2021/09/OIP.jpg
END:VEVENT
BEGIN:VEVENT
DTSTART;TZID=America/New_York:20240727T193000
DTEND;TZID=America/New_York:20240727T233000
DTSTAMP:20260425T111943
CREATED:20240718T213750Z
LAST-MODIFIED:20240718T213750Z
UID:843-1722108600-1722123000@thefoxandthefiddle.com
SUMMARY:The Fenton Hotel
DESCRIPTION:You are invited to a Saturday night with the amazing Fox and Fiddle Band at the wonderful Fenton Hotel. Bring your friends and hang out all night long. OH Ya!!!!
URL:https://thefoxandthefiddle.com/event/the-fenton-hotel-20/
LOCATION:Fenton Hotel\, 302 N Leroy St.\, Fenton\, MI\, 48430\, United States
CATEGORIES:Fox and The Fiddle,Schedule
ATTACH;FMTTYPE=image/jpeg:https://thefoxandthefiddle.com/wp-content/uploads/2022/10/Fenton-Hotel-and-restaurant.jpg
END:VEVENT
BEGIN:VEVENT
DTSTART;TZID=America/New_York:20240726T193000
DTEND;TZID=America/New_York:20240726T233000
DTSTAMP:20260425T111943
CREATED:20240718T212736Z
LAST-MODIFIED:20240718T212736Z
UID:841-1722022200-1722036600@thefoxandthefiddle.com
SUMMARY:The Fenton Hotel
DESCRIPTION:Friday nights are always a fun time with friends and music from The Fox and the Fiddle at The Fenton Hotel.
URL:https://thefoxandthefiddle.com/event/the-fenton-hotel-19/
LOCATION:Fenton Hotel\, 302 N Leroy St.\, Fenton\, MI\, 48430\, United States
CATEGORIES:Fox and The Fiddle,Schedule
ATTACH;FMTTYPE=image/jpeg:https://thefoxandthefiddle.com/wp-content/uploads/2022/10/Fenton-Hotel-and-restaurant.jpg
END:VEVENT
BEGIN:VEVENT
DTSTART;TZID=America/New_York:20240720T193000
DTEND;TZID=America/New_York:20240720T233000
DTSTAMP:20260425T111943
CREATED:20240718T212339Z
LAST-MODIFIED:20240718T212339Z
UID:839-1721503800-1721518200@thefoxandthefiddle.com
SUMMARY:The Fenton Hotel
DESCRIPTION:Join us for a wonderful Saturday night filled with great food\, great drinks\, fantastic people including your friends The Fox and the Fiddle.
URL:https://thefoxandthefiddle.com/event/the-fenton-hotel-18/
LOCATION:Fenton Hotel\, 302 N Leroy St.\, Fenton\, MI\, 48430\, United States
CATEGORIES:Fox and The Fiddle,Schedule
ATTACH;FMTTYPE=image/jpeg:https://thefoxandthefiddle.com/wp-content/uploads/2022/10/Fenton-Hotel-and-restaurant.jpg
END:VEVENT
BEGIN:VEVENT
DTSTART;TZID=America/New_York:20240719T193000
DTEND;TZID=America/New_York:20240719T233000
DTSTAMP:20260425T111943
CREATED:20240718T211939Z
LAST-MODIFIED:20240718T211939Z
UID:837-1721417400-1721431800@thefoxandthefiddle.com
SUMMARY:The Fenton Hotel
DESCRIPTION:We are back again for another fun filled night of music\, great food and people having fun.\nSee you on the dance floor at the wonderful Fenton Hotel.
URL:https://thefoxandthefiddle.com/event/the-fenton-hotel-17/
LOCATION:Fenton Hotel\, 302 N Leroy St.\, Fenton\, MI\, 48430\, United States
CATEGORIES:Fox and The Fiddle,Schedule
ATTACH;FMTTYPE=image/jpeg:https://thefoxandthefiddle.com/wp-content/uploads/2022/10/Fenton-Hotel-and-restaurant.jpg
END:VEVENT
BEGIN:VEVENT
DTSTART;TZID=America/New_York:20240711T180000
DTEND;TZID=America/New_York:20240711T210000
DTSTAMP:20260425T111943
CREATED:20240610T230332Z
LAST-MODIFIED:20240610T230332Z
UID:835-1720720800-1720731600@thefoxandthefiddle.com
SUMMARY:Flint Market Tap
DESCRIPTION:The Flint Market Tap is a really wonderful place to relax inside and outside and enjoy a great drink and some awesome live entertainment. See you on the second floor at the Flint Market Tap.
URL:https://thefoxandthefiddle.com/event/flint-market-tap-4/
LOCATION:Market Tap\, 300 E 1st St.\, Flint\, MI\, 48502\, United States
CATEGORIES:Fox and The Fiddle,Schedule
ATTACH;FMTTYPE=image/jpeg:https://thefoxandthefiddle.com/wp-content/uploads/2023/08/Untitled.jpg
END:VEVENT
BEGIN:VEVENT
DTSTART;TZID=America/New_York:20240616T090000
DTEND;TZID=America/New_York:20240616T140000
DTSTAMP:20260425T111943
CREATED:20240610T224527Z
LAST-MODIFIED:20240610T224527Z
UID:833-1718528400-1718546400@thefoxandthefiddle.com
SUMMARY:Birmingham Farmers Market
DESCRIPTION:Join us early morning at 9am for a special farmers market extended performance. Thank you very much for supporting live music and The Fox and the Fiddle.
URL:https://thefoxandthefiddle.com/event/birmingham-farmers-market-6/
LOCATION:Birmingham Farmers Market\, 620 N Old Woodward Ave\, Birmingham\, MI\, 48009\, United States
CATEGORIES:Fox and The Fiddle,Schedule
ATTACH;FMTTYPE=image/jpeg:https://thefoxandthefiddle.com/wp-content/uploads/2023/05/OIP.jpg
END:VEVENT
BEGIN:VEVENT
DTSTART;TZID=America/New_York:20240613T170000
DTEND;TZID=America/New_York:20240613T183000
DTSTAMP:20260425T111943
CREATED:20240610T220206Z
LAST-MODIFIED:20240610T223814Z
UID:828-1718298000-1718303400@thefoxandthefiddle.com
SUMMARY:Ryman Auditorium Nashville for Pick'n on the Parlor
DESCRIPTION:Join us for a great day of music in Nashville TN for music at the Ryman Auditorium for Pick’n on the Parlor.
URL:https://thefoxandthefiddle.com/event/ryman-auditorium-nashville-for-pickn-on-the-parlor-country-music-live-entertainment/
LOCATION:Ryman Auditorium\, 115 5th Ave South\, Nashville\, TN\, 37219\, United States
CATEGORIES:Fox and The Fiddle,Schedule
ATTACH;FMTTYPE=image/jpeg:https://thefoxandthefiddle.com/wp-content/uploads/2024/06/Ryman-Nine.jpg
END:VEVENT
BEGIN:VEVENT
DTSTART;TZID=America/New_York:20240527T140000
DTEND;TZID=America/New_York:20240527T160000
DTSTAMP:20260425T111943
CREATED:20240515T230352Z
LAST-MODIFIED:20240515T230352Z
UID:824-1716818400-1716825600@thefoxandthefiddle.com
SUMMARY:Novi BBQ Festival
DESCRIPTION:Monday is a memorial day and we will be there with you for one final day of celebrating and having fun at the Novi BBQ Festival.
URL:https://thefoxandthefiddle.com/event/novi-bbq-festival-4/
LOCATION:The Fountain Walk\, 44175 W 12 Mile Road\, Novi\, MI\, 48377\, United States
CATEGORIES:Fox and The Fiddle,Schedule
ATTACH;FMTTYPE=image/jpeg:https://thefoxandthefiddle.com/wp-content/uploads/2024/05/OIP.jpg
END:VEVENT
BEGIN:VEVENT
DTSTART;TZID=America/New_York:20240526T163000
DTEND;TZID=America/New_York:20240526T183000
DTSTAMP:20260425T111943
CREATED:20240515T225755Z
LAST-MODIFIED:20240515T225755Z
UID:822-1716741000-1716748200@thefoxandthefiddle.com
SUMMARY:Novi BBQ Festival
DESCRIPTION:Excited to back for a third day performing with the amazingly talented Emily Joy in beautiful Novi Michigan for the annual BBQ festival. Come dance\, eat\, drink and have fun because you deserve it.
URL:https://thefoxandthefiddle.com/event/novi-bbq-festival-3/
LOCATION:The Fountain Walk\, 44175 W 12 Mile Road\, Novi\, MI\, 48377\, United States
CATEGORIES:Fox and The Fiddle,Schedule
ATTACH;FMTTYPE=image/jpeg:https://thefoxandthefiddle.com/wp-content/uploads/2024/05/OIP.jpg
END:VEVENT
BEGIN:VEVENT
DTSTART;TZID=America/New_York:20240525T183000
DTEND;TZID=America/New_York:20240525T200000
DTSTAMP:20260425T111943
CREATED:20240515T225110Z
LAST-MODIFIED:20240515T225110Z
UID:820-1716661800-1716667200@thefoxandthefiddle.com
SUMMARY:Novi BBQ Festival
DESCRIPTION:Joinn us for an awesome time where you can eat all the BBQ you could ever dream of. Drink dance and have fun with The Fox and the Fiddle.
URL:https://thefoxandthefiddle.com/event/novi-bbq-festival-2/
LOCATION:The Fountain Walk\, 44175 W 12 Mile Road\, Novi\, MI\, 48377\, United States
CATEGORIES:Fox and The Fiddle,Schedule
ATTACH;FMTTYPE=image/jpeg:https://thefoxandthefiddle.com/wp-content/uploads/2024/05/OIP.jpg
END:VEVENT
BEGIN:VEVENT
DTSTART;TZID=America/New_York:20240525T100000
DTEND;TZID=America/New_York:20240525T120000
DTSTAMP:20260425T111943
CREATED:20240515T230902Z
LAST-MODIFIED:20240515T230902Z
UID:826-1716631200-1716638400@thefoxandthefiddle.com
SUMMARY:Royal Oak Farmers Market
DESCRIPTION:The Fox and the Fiddle are back for another performance at the Royal Oak Farmers Market. Get everything you could ever dream of under one roof. From smoothies to chicken to salmon to french fries to coffee eggs and produce.
URL:https://thefoxandthefiddle.com/event/royal-oak-farmers-market-13/
LOCATION:Royal Oak Farmers Market\, 316 E 11mile rd\, Royal Oak\, MI\, 48067\, United States
CATEGORIES:Fox and The Fiddle,Schedule
ATTACH;FMTTYPE=image/jpeg:https://thefoxandthefiddle.com/wp-content/uploads/2021/10/royal-oak-farmers-marjket.jpg
END:VEVENT
BEGIN:VEVENT
DTSTART;TZID=America/New_York:20240524T160000
DTEND;TZID=America/New_York:20240524T180000
DTSTAMP:20260425T111943
CREATED:20240515T224618Z
LAST-MODIFIED:20240515T224618Z
UID:814-1716566400-1716573600@thefoxandthefiddle.com
SUMMARY:Novi BBQ Festival
DESCRIPTION:Join us for four days of BBQ\, cold drinks\, and great entertainment.\nExcited to be performing at this years best BBQ festival in beautiful Novi Michigan at the amazing Fountain Walk Center.
URL:https://thefoxandthefiddle.com/event/novi-bbq-festival/
LOCATION:The Fountain Walk\, 44175 W 12 Mile Road\, Novi\, MI\, 48377\, United States
CATEGORIES:Fox and The Fiddle,Schedule
ATTACH;FMTTYPE=image/jpeg:https://thefoxandthefiddle.com/wp-content/uploads/2024/05/OIP.jpg
END:VEVENT
BEGIN:VEVENT
DTSTART;TZID=America/New_York:20240516T180000
DTEND;TZID=America/New_York:20240516T210000
DTSTAMP:20260425T111943
CREATED:20240406T185331Z
LAST-MODIFIED:20240406T185331Z
UID:810-1715882400-1715893200@thefoxandthefiddle.com
SUMMARY:Flint Market Tap
DESCRIPTION:
URL:https://thefoxandthefiddle.com/event/flint-market-tap-3/
LOCATION:Market Tap\, 300 E 1st St.\, Flint\, MI\, 48502\, United States
CATEGORIES:Fox and The Fiddle,Schedule
ATTACH;FMTTYPE=image/jpeg:https://thefoxandthefiddle.com/wp-content/uploads/2023/08/Untitled.jpg
END:VEVENT
BEGIN:VEVENT
DTSTART;TZID=America/New_York:20240511T110000
DTEND;TZID=America/New_York:20240511T150000
DTSTAMP:20260425T111943
CREATED:20240406T184751Z
LAST-MODIFIED:20240406T184751Z
UID:806-1715425200-1715439600@thefoxandthefiddle.com
SUMMARY:Lavendar Festival @ Indigo Lavendar Farms
DESCRIPTION:
URL:https://thefoxandthefiddle.com/event/lavendar-festival-indigo-lavendar-farms/
LOCATION:Indigo Lavendar Farms\, 631 N Van Dyke Rd\, Imlay City\, 48444\, United States
CATEGORIES:Fox and The Fiddle,Schedule
ATTACH;FMTTYPE=image/jpeg:https://thefoxandthefiddle.com/wp-content/uploads/2024/04/lavender_butterfly_july_2021.jpg
END:VEVENT
BEGIN:VEVENT
DTSTART;TZID=America/New_York:20240427T193000
DTEND;TZID=America/New_York:20240427T233000
DTSTAMP:20260425T111943
CREATED:20240406T183259Z
LAST-MODIFIED:20240406T183259Z
UID:804-1714246200-1714260600@thefoxandthefiddle.com
SUMMARY:The Fenton Hotel
DESCRIPTION:Enjoy a fantastic Saturday night with your friends and family while listening to The Fox and the Fiddle. See you in Fenton !!!
URL:https://thefoxandthefiddle.com/event/the-fenton-hotel-16/
LOCATION:Fenton Hotel\, 302 N Leroy St.\, Fenton\, MI\, 48430\, United States
CATEGORIES:Fox and The Fiddle,Schedule
ATTACH;FMTTYPE=image/jpeg:https://thefoxandthefiddle.com/wp-content/uploads/2022/10/Fenton-Hotel-and-restaurant.jpg
END:VEVENT
BEGIN:VEVENT
DTSTART;TZID=America/New_York:20240427T100000
DTEND;TZID=America/New_York:20240427T120000
DTSTAMP:20260425T111943
CREATED:20240406T191858Z
LAST-MODIFIED:20240406T191858Z
UID:812-1714212000-1714219200@thefoxandthefiddle.com
SUMMARY:Royal Oak Farmers Market
DESCRIPTION:Saturday morning are filled with wonderful people\, great things to eat and love music from your friends The Fox and the Fiddle.
URL:https://thefoxandthefiddle.com/event/royal-oak-farmers-market-12/
LOCATION:Royal Oak Farmers Market\, 316 E 11mile rd\, Royal Oak\, MI\, 48067\, United States
CATEGORIES:Fox and The Fiddle,Schedule
ATTACH;FMTTYPE=image/jpeg:https://thefoxandthefiddle.com/wp-content/uploads/2021/10/royal-oak-farmers-marjket.jpg
END:VEVENT
BEGIN:VEVENT
DTSTART;TZID=America/New_York:20240426T193000
DTEND;TZID=America/New_York:20240426T233000
DTSTAMP:20260425T111943
CREATED:20240406T182907Z
LAST-MODIFIED:20240406T182907Z
UID:801-1714159800-1714174200@thefoxandthefiddle.com
SUMMARY:Fenton Hotel
DESCRIPTION:The music continues and so does the fun. Come dance and sing the night away with your friends in Fenton at the wonderful Fenton Hotel.
URL:https://thefoxandthefiddle.com/event/fenton-hotel-16/
LOCATION:Fenton Hotel\, 302 N Leroy St.\, Fenton\, MI\, 48430\, United States
CATEGORIES:Fox and The Fiddle,Schedule
ATTACH;FMTTYPE=image/jpeg:https://thefoxandthefiddle.com/wp-content/uploads/2022/10/Fenton-Hotel-and-restaurant.jpg
END:VEVENT
BEGIN:VEVENT
DTSTART;TZID=America/New_York:20240420T190000
DTEND;TZID=America/New_York:20240420T230000
DTSTAMP:20260425T111943
CREATED:20240307T230941Z
LAST-MODIFIED:20240307T230941Z
UID:799-1713639600-1713654000@thefoxandthefiddle.com
SUMMARY:The Fenton Hotel
DESCRIPTION:Saturday night and the good times are upon us. Come dance\, drink\, and eat wonderful food at Fenton’s best kept secret The Fenton Hotel. The Fox and the Fiddle will be there and you can bet there will  be enough fun for everyone!!!
URL:https://thefoxandthefiddle.com/event/the-fenton-hotel-15/
LOCATION:Fenton Hotel\, 302 N Leroy St.\, Fenton\, MI\, 48430\, United States
CATEGORIES:Fox and The Fiddle,Schedule
ATTACH;FMTTYPE=image/jpeg:https://thefoxandthefiddle.com/wp-content/uploads/2022/10/Fenton-Hotel-and-restaurant.jpg
END:VEVENT
BEGIN:VEVENT
DTSTART;TZID=America/New_York:20240419T190000
DTEND;TZID=America/New_York:20240419T230000
DTSTAMP:20260425T111943
CREATED:20240307T230117Z
LAST-MODIFIED:20240307T230117Z
UID:797-1713553200-1713567600@thefoxandthefiddle.com
SUMMARY:The Fenton Hotel
DESCRIPTION:We are back for a double header shot gun barrel blast of fun with your favorite musical duo The Fox and the Fiddle. The Fenton Hotel has all of your needs covered. So drink\, eat and dance the night away. see you there.
URL:https://thefoxandthefiddle.com/event/the-fenton-hotel-14/
LOCATION:Fenton Hotel\, 302 N Leroy St.\, Fenton\, MI\, 48430\, United States
CATEGORIES:Fox and The Fiddle,Schedule
ATTACH;FMTTYPE=image/jpeg:https://thefoxandthefiddle.com/wp-content/uploads/2022/10/Fenton-Hotel-and-restaurant.jpg
END:VEVENT
BEGIN:VEVENT
DTSTART;TZID=America/New_York:20240418T180000
DTEND;TZID=America/New_York:20240418T210000
DTSTAMP:20260425T111943
CREATED:20240307T213655Z
LAST-MODIFIED:20240406T182540Z
UID:794-1713463200-1713474000@thefoxandthefiddle.com
SUMMARY:Flint Market Tap
DESCRIPTION:The Flint Market Tap is a really fantastic place in an amazing building right near Mott College with plenty of easy and parking. This place is just about as cool as it gets. So join us\, The Fox and the Fiddle for an up close night of great music\, great drinks\, and fun for everyone.
URL:https://thefoxandthefiddle.com/event/flint-market-tap-2/
LOCATION:Market Tap\, 300 E 1st St.\, Flint\, MI\, 48502\, United States
CATEGORIES:Fox and The Fiddle,Schedule
ATTACH;FMTTYPE=image/jpeg:https://thefoxandthefiddle.com/wp-content/uploads/2023/08/Untitled.jpg
END:VEVENT
BEGIN:VEVENT
DTSTART;TZID=America/New_York:20240317T190000
DTEND;TZID=America/New_York:20240317T210000
DTSTAMP:20260425T111943
CREATED:20240209T004632Z
LAST-MODIFIED:20240307T225329Z
UID:760-1710702000-1710709200@thefoxandthefiddle.com
SUMMARY:O'Mara's Restaurant St. Patrick's Day Celebration
DESCRIPTION:St. Patrick’s Celebration at O’Mara’s in Berkley Mi. We are excited to be releasing our new CD a year and a half in the making. Join us for great food\, great drinks\, happy people and lots of fun dancing at O’Mara’s. See you all there. Times to be announced soon as possible. More info to come. Call for further details (248) 677-3535
URL:https://thefoxandthefiddle.com/event/omaras-restaurant-st-patricks-day-celebration/
LOCATION:O’Mara’s\, 2555 W 12 Mile Rd\, Berkley\, MI\, 48072\, United States
CATEGORIES:Fox and The Fiddle,Schedule
ATTACH;FMTTYPE=image/jpeg:https://thefoxandthefiddle.com/wp-content/uploads/2023/08/04f6a0e3-98b2-4abc-8cc9-1626348fd24c.jpg
END:VEVENT
BEGIN:VEVENT
DTSTART;TZID=America/New_York:20240224T100000
DTEND;TZID=America/New_York:20240224T120000
DTSTAMP:20260425T111943
CREATED:20240209T003129Z
LAST-MODIFIED:20240209T003129Z
UID:758-1708768800-1708776000@thefoxandthefiddle.com
SUMMARY:Royal Oak Farmers Market
DESCRIPTION:The fun continues at the best market in greater Metro Detroit with your friends The Fox and the Fiddle. This is a wonderful way to spend your Saturday morning with all your friends and family. See you there. 🙂
URL:https://thefoxandthefiddle.com/event/royal-oak-farmers-market-11/
LOCATION:Royal Oak Farmers Market\, 316 E 11mile rd\, Royal Oak\, MI\, 48067\, United States
CATEGORIES:Fox and The Fiddle,Schedule
ATTACH;FMTTYPE=image/jpeg:https://thefoxandthefiddle.com/wp-content/uploads/2021/10/royal-oak-farmers-marjket.jpg
END:VEVENT
BEGIN:VEVENT
DTSTART;TZID=America/New_York:20240120T193000
DTEND;TZID=America/New_York:20240120T233000
DTSTAMP:20260425T111943
CREATED:20231203T181257Z
LAST-MODIFIED:20231203T181257Z
UID:751-1705779000-1705793400@thefoxandthefiddle.com
SUMMARY:Fenton Hotel
DESCRIPTION:Saturday night at the Fenton Hotel is always full of food\, drinks\, music\, and dancing. Come join the fun and enjoy yourself with The Fox and the Fiddle.
URL:https://thefoxandthefiddle.com/event/fenton-hotel-15/
LOCATION:Fenton Hotel\, 302 N Leroy St.\, Fenton\, MI\, 48430\, United States
CATEGORIES:Fox and The Fiddle,Schedule
ATTACH;FMTTYPE=image/jpeg:https://thefoxandthefiddle.com/wp-content/uploads/2022/10/Fenton-Hotel-and-restaurant.jpg
END:VEVENT
BEGIN:VEVENT
DTSTART;TZID=America/New_York:20240119T193000
DTEND;TZID=America/New_York:20240119T233000
DTSTAMP:20260425T111943
CREATED:20231203T180743Z
LAST-MODIFIED:20231203T180743Z
UID:749-1705692600-1705707000@thefoxandthefiddle.com
SUMMARY:Fenton Hotel
DESCRIPTION:We are back and excited to be performing at this historical location for our first time in 2024. Join the celebration and dance the night away at this wonderful place -The Fenton Hotel.
URL:https://thefoxandthefiddle.com/event/fenton-hotel-14/
LOCATION:Fenton Hotel\, 302 N Leroy St.\, Fenton\, MI\, 48430\, United States
CATEGORIES:Fox and The Fiddle,Schedule
ATTACH;FMTTYPE=image/jpeg:https://thefoxandthefiddle.com/wp-content/uploads/2022/10/Fenton-Hotel-and-restaurant.jpg
END:VEVENT
BEGIN:VEVENT
DTSTART;TZID=America/New_York:20231215T200000
DTEND;TZID=America/New_York:20231215T230000
DTSTAMP:20260425T111943
CREATED:20231212T185932Z
LAST-MODIFIED:20231212T185932Z
UID:753-1702670400-1702681200@thefoxandthefiddle.com
SUMMARY:The Watermark -Band Gig
DESCRIPTION:Join the Austin Scott band for a country party at the Watermark Bar and Grill in amazing St. Clair Shores. See you all there and thanks for coming !!!
URL:https://thefoxandthefiddle.com/event/the-watermark-band-gig/
LOCATION:The Watermark\, 24420 Jeffeson Ave\, Saint Clir Shores\, MI\, 48080\, United States
CATEGORIES:Fox and The Fiddle,Schedule
ATTACH;FMTTYPE=image/png:https://thefoxandthefiddle.com/wp-content/uploads/2023/12/WatermarkBarGrill24420SaintClairShoresMI.png
END:VEVENT
BEGIN:VEVENT
DTSTART;TZID=America/New_York:20231207T180000
DTEND;TZID=America/New_York:20231207T210000
DTSTAMP:20260425T111943
CREATED:20231203T180350Z
LAST-MODIFIED:20231203T180350Z
UID:747-1701972000-1701982800@thefoxandthefiddle.com
SUMMARY:Flint Market Tap
DESCRIPTION:The Flint Market Tap is a fantastic place to go not only for the great live music but the beer and cocktails are just as awesome as the people serving them\, but you don’t have to take my word for it. See you Thursday night in Flint Michigan.
URL:https://thefoxandthefiddle.com/event/flint-market-tap/
LOCATION:Market Tap\, 300 E 1st St.\, Flint\, MI\, 48502\, United States
CATEGORIES:Fox and The Fiddle,Schedule
ATTACH;FMTTYPE=image/jpeg:https://thefoxandthefiddle.com/wp-content/uploads/2023/08/Untitled.jpg
END:VEVENT
END:VCALENDAR