BEGIN:VCALENDAR
VERSION:2.0
PRODID:-//The Fox and the Fiddle - ECPv6.13.2.1//NONSGML v1.0//EN
CALSCALE:GREGORIAN
METHOD:PUBLISH
X-ORIGINAL-URL:https://thefoxandthefiddle.com
X-WR-CALDESC:Events for The Fox and the Fiddle
REFRESH-INTERVAL;VALUE=DURATION:PT1H
X-Robots-Tag:noindex
X-PUBLISHED-TTL:PT1H
BEGIN:VTIMEZONE
TZID:America/New_York
BEGIN:DAYLIGHT
TZOFFSETFROM:-0500
TZOFFSETTO:-0400
TZNAME:EDT
DTSTART:20250309T070000
END:DAYLIGHT
BEGIN:STANDARD
TZOFFSETFROM:-0400
TZOFFSETTO:-0500
TZNAME:EST
DTSTART:20251102T060000
END:STANDARD
END:VTIMEZONE
BEGIN:VEVENT
DTSTART;TZID=America/New_York:20250621T120000
DTEND;TZID=America/New_York:20250621T230000
DTSTAMP:20260425T093708
CREATED:20250503T205456Z
LAST-MODIFIED:20250503T205456Z
UID:984-1750507200-1750546800@thefoxandthefiddle.com
SUMMARY:Brighton's Country Boots and Beats Festival
DESCRIPTION:Join us at the Brighton Country Fest featuring the amazing artists Louie Lee\, The Y’all Band\, The Jacki Daniels Show\, Jason Harper\, Rob Stone\, and your friends The Fox and the Fiddle.
URL:https://thefoxandthefiddle.com/event/brightons-country-boots-and-beats-festival/
LOCATION:Brighton  Ampitheater aka the AMP\, Millpond Trail\, Brighton\, 48116\, United States
CATEGORIES:Fox and The Fiddle,Schedule
ATTACH;FMTTYPE=image/jpeg:https://thefoxandthefiddle.com/wp-content/uploads/2025/05/Screenshot_20250326_161649_Messages.jpg
END:VEVENT
END:VCALENDAR