BEGIN:VCALENDAR
VERSION:2.0
PRODID:-//The Fox and the Fiddle - ECPv6.13.2.1//NONSGML v1.0//EN
CALSCALE:GREGORIAN
METHOD:PUBLISH
X-ORIGINAL-URL:https://thefoxandthefiddle.com
X-WR-CALDESC:Events for The Fox and the Fiddle
REFRESH-INTERVAL;VALUE=DURATION:PT1H
X-Robots-Tag:noindex
X-PUBLISHED-TTL:PT1H
BEGIN:VTIMEZONE
TZID:America/New_York
BEGIN:DAYLIGHT
TZOFFSETFROM:-0500
TZOFFSETTO:-0400
TZNAME:EDT
DTSTART:20260308T070000
END:DAYLIGHT
BEGIN:STANDARD
TZOFFSETFROM:-0400
TZOFFSETTO:-0500
TZNAME:EST
DTSTART:20261101T060000
END:STANDARD
END:VTIMEZONE
BEGIN:VEVENT
DTSTART;TZID=America/New_York:20260502T100000
DTEND;TZID=America/New_York:20260502T140000
DTSTAMP:20260423T123117
CREATED:20260324T211214Z
LAST-MODIFIED:20260324T211214Z
UID:1246-1777716000-1777730400@thefoxandthefiddle.com
SUMMARY:Farmington Farmers Market
DESCRIPTION:You meet the nicest people in Farmington and the things they have at this market are so good. So come here the great music of The Fox and the Fiddle and treat yourself and your senses to a wonderful Saturday in Farmington.
URL:https://thefoxandthefiddle.com/event/farmington-farmers-market-10/
LOCATION:Farmington Farmers Market\, 33113 Grand Rover Ave\, Farmington\, 48336\, United States
CATEGORIES:Fox and The Fiddle,Schedule
ATTACH;FMTTYPE=image/jpeg:https://thefoxandthefiddle.com/wp-content/uploads/2021/09/OIP.jpg
END:VEVENT
END:VCALENDAR