BEGIN:VCALENDAR
VERSION:2.0
PRODID:-//The Fox and the Fiddle - ECPv6.13.2.1//NONSGML v1.0//EN
CALSCALE:GREGORIAN
METHOD:PUBLISH
X-ORIGINAL-URL:https://thefoxandthefiddle.com
X-WR-CALDESC:Events for The Fox and the Fiddle
REFRESH-INTERVAL;VALUE=DURATION:PT1H
X-Robots-Tag:noindex
X-PUBLISHED-TTL:PT1H
BEGIN:VTIMEZONE
TZID:America/New_York
BEGIN:DAYLIGHT
TZOFFSETFROM:-0500
TZOFFSETTO:-0400
TZNAME:EDT
DTSTART:20260308T070000
END:DAYLIGHT
BEGIN:STANDARD
TZOFFSETFROM:-0400
TZOFFSETTO:-0500
TZNAME:EST
DTSTART:20261101T060000
END:STANDARD
END:VTIMEZONE
BEGIN:VEVENT
DTSTART;TZID=America/New_York:20260110T193000
DTEND;TZID=America/New_York:20260110T230000
DTSTAMP:20260423T222439
CREATED:20260106T061717Z
LAST-MODIFIED:20260106T061717Z
UID:1186-1768073400-1768086000@thefoxandthefiddle.com
SUMMARY:Fishbones - Saint Clair Shores w/ Austin and Anton
DESCRIPTION:We are so glad to be back for the funnest night in New Orlean’s\, I mean Fishbones in St Clair Shores. We love playing there so please join us for music\, dancing\, and amazing food and more at this amazing location and we know you will too.
URL:https://thefoxandthefiddle.com/event/fishbones-saint-clair-shores-w-austin-and-anton/
LOCATION:Fishbone’s\, 23722 Jefferson Ave\, St. Clair Shores\, Michigan\, 48080
CATEGORIES:Fox and The Fiddle,Schedule
ATTACH;FMTTYPE=image/webp:https://thefoxandthefiddle.com/wp-content/uploads/2025/05/fishbones-st-clair-shores-main-375939491-439.webp
END:VEVENT
END:VCALENDAR