BEGIN:VCALENDAR
VERSION:2.0
PRODID:-//The Fox and the Fiddle - ECPv6.13.2.1//NONSGML v1.0//EN
CALSCALE:GREGORIAN
METHOD:PUBLISH
X-WR-CALNAME:The Fox and the Fiddle
X-ORIGINAL-URL:https://thefoxandthefiddle.com
X-WR-CALDESC:Events for The Fox and the Fiddle
REFRESH-INTERVAL;VALUE=DURATION:PT1H
X-Robots-Tag:noindex
X-PUBLISHED-TTL:PT1H
BEGIN:VTIMEZONE
TZID:America/New_York
BEGIN:DAYLIGHT
TZOFFSETFROM:-0500
TZOFFSETTO:-0400
TZNAME:EDT
DTSTART:20250309T070000
END:DAYLIGHT
BEGIN:STANDARD
TZOFFSETFROM:-0400
TZOFFSETTO:-0500
TZNAME:EST
DTSTART:20251102T060000
END:STANDARD
END:VTIMEZONE
BEGIN:VEVENT
DTSTART;TZID=America/New_York:20251101T200000
DTEND;TZID=America/New_York:20251101T233000
DTSTAMP:20260424T040811
CREATED:20251024T032701Z
LAST-MODIFIED:20251024T032701Z
UID:1143-1762027200-1762039800@thefoxandthefiddle.com
SUMMARY:Fishbone's featuring Austin and Anton
DESCRIPTION:Super excited to be back at one of my absolute favorite places to perform at. Fishbone’s has class\, style\, fun\, and amazing food. Join us Austin Scott and Anton Simper for amazing music and dancing as we enjoy a great night in beautiful St. Clair Shores.
URL:https://thefoxandthefiddle.com/event/fishbones-featuring-austin-and-anton/
LOCATION:Fishbone’s\, 23722 Jefferson Ave\, St. Clair Shores\, Michigan\, 48080
CATEGORIES:Fox and The Fiddle,Schedule
ATTACH;FMTTYPE=image/webp:https://thefoxandthefiddle.com/wp-content/uploads/2025/05/fishbones-st-clair-shores-main-375939491-439.webp
END:VEVENT
END:VCALENDAR