BEGIN:VCALENDAR
VERSION:2.0
PRODID:-//The Fox and the Fiddle - ECPv6.13.2.1//NONSGML v1.0//EN
CALSCALE:GREGORIAN
METHOD:PUBLISH
X-WR-CALNAME:The Fox and the Fiddle
X-ORIGINAL-URL:https://thefoxandthefiddle.com
X-WR-CALDESC:Events for The Fox and the Fiddle
REFRESH-INTERVAL;VALUE=DURATION:PT1H
X-Robots-Tag:noindex
X-PUBLISHED-TTL:PT1H
BEGIN:VTIMEZONE
TZID:America/New_York
BEGIN:DAYLIGHT
TZOFFSETFROM:-0500
TZOFFSETTO:-0400
TZNAME:EDT
DTSTART:20250309T070000
END:DAYLIGHT
BEGIN:STANDARD
TZOFFSETFROM:-0400
TZOFFSETTO:-0500
TZNAME:EST
DTSTART:20251102T060000
END:STANDARD
END:VTIMEZONE
BEGIN:VEVENT
DTSTART;TZID=America/New_York:20251227T193000
DTEND;TZID=America/New_York:20251227T233000
DTSTAMP:20260424T024230
CREATED:20251227T003832Z
LAST-MODIFIED:20251227T003956Z
UID:1171-1766863800-1766878200@thefoxandthefiddle.com
SUMMARY:Fishbones with Austin and Anton
DESCRIPTION:Join Austin and Anton for a fun night of music\, dancing\, and amazing food at this wonderful place in beautiful St. Clair Shores Michigan.
URL:https://thefoxandthefiddle.com/event/fish-bones-with-austin-and-anton/
LOCATION:Fishbone’s\, 23722 Jefferson Ave\, St. Clair Shores\, Michigan\, 48080
CATEGORIES:Fox and The Fiddle,Schedule
ATTACH;FMTTYPE=image/webp:https://thefoxandthefiddle.com/wp-content/uploads/2025/05/fishbones-st-clair-shores-main-375939491-439.webp
END:VEVENT
END:VCALENDAR