BEGIN:VCALENDAR
VERSION:2.0
PRODID:-//The Fox and the Fiddle - ECPv6.13.2.1//NONSGML v1.0//EN
CALSCALE:GREGORIAN
METHOD:PUBLISH
X-WR-CALNAME:The Fox and the Fiddle
X-ORIGINAL-URL:https://thefoxandthefiddle.com
X-WR-CALDESC:Events for The Fox and the Fiddle
REFRESH-INTERVAL;VALUE=DURATION:PT1H
X-Robots-Tag:noindex
X-PUBLISHED-TTL:PT1H
BEGIN:VTIMEZONE
TZID:America/New_York
BEGIN:DAYLIGHT
TZOFFSETFROM:-0500
TZOFFSETTO:-0400
TZNAME:EDT
DTSTART:20260308T070000
END:DAYLIGHT
BEGIN:STANDARD
TZOFFSETFROM:-0400
TZOFFSETTO:-0500
TZNAME:EST
DTSTART:20261101T060000
END:STANDARD
END:VTIMEZONE
BEGIN:VEVENT
DTSTART;TZID=America/New_York:20260205T180000
DTEND;TZID=America/New_York:20260205T210000
DTSTAMP:20260423T230401
CREATED:20260203T050432Z
LAST-MODIFIED:20260203T050432Z
UID:1203-1770314400-1770325200@thefoxandthefiddle.com
SUMMARY:Flint Market Tap
DESCRIPTION:Come join us for a great night up stairs in one of the best places in Flint Michigan\, The Flint Market Tap with your friends The Fox and the Fiddle. 6pm to 9pm
URL:https://thefoxandthefiddle.com/event/flint-market-tap-15/
LOCATION:Market Tap\, 300 E 1st St.\, Flint\, MI\, 48502\, United States
CATEGORIES:Fox and The Fiddle,Schedule
ATTACH;FMTTYPE=image/jpeg:https://thefoxandthefiddle.com/wp-content/uploads/2023/08/Untitled.jpg
END:VEVENT
BEGIN:VEVENT
DTSTART;TZID=America/New_York:20260214T100000
DTEND;TZID=America/New_York:20260214T120000
DTSTAMP:20260423T230401
CREATED:20260120T004917Z
LAST-MODIFIED:20260120T005406Z
UID:1201-1771063200-1771070400@thefoxandthefiddle.com
SUMMARY:Royal Oak Farmers Market
DESCRIPTION:Grateful for all the wonderful things that we have in this world like the chance to sing for the wonderful people at the Royal Oak Farmers Market in beautiful Royal Oak Michigan.
URL:https://thefoxandthefiddle.com/event/royal-oak-farmers-market-25/
LOCATION:Royal Oak Farmers Market\, 316 E 11mile rd\, Royal Oak\, MI\, 48067\, United States
CATEGORIES:Fox and The Fiddle,Schedule
ATTACH;FMTTYPE=image/jpeg:https://thefoxandthefiddle.com/wp-content/uploads/2021/10/royal-oak-farmers-marjket.jpg
END:VEVENT
BEGIN:VEVENT
DTSTART;TZID=America/New_York:20260219T180000
DTEND;TZID=America/New_York:20260219T210000
DTSTAMP:20260423T230401
CREATED:20260120T004053Z
LAST-MODIFIED:20260120T004053Z
UID:1199-1771524000-1771534800@thefoxandthefiddle.com
SUMMARY:Flint Market Tap
DESCRIPTION:See you in Flint Michigan for a great night filled with great people and your favorite musical duo The Fox and the Fiddle at The Flint Market Tap.
URL:https://thefoxandthefiddle.com/event/flint-market-tap-14/
LOCATION:MI
CATEGORIES:Fox and The Fiddle,Schedule
ATTACH;FMTTYPE=image/jpeg:https://thefoxandthefiddle.com/wp-content/uploads/2023/08/Untitled.jpg
END:VEVENT
END:VCALENDAR