BEGIN:VCALENDAR
VERSION:2.0
PRODID:-//The Fox and the Fiddle - ECPv6.13.2.1//NONSGML v1.0//EN
CALSCALE:GREGORIAN
METHOD:PUBLISH
X-WR-CALNAME:The Fox and the Fiddle
X-ORIGINAL-URL:https://thefoxandthefiddle.com
X-WR-CALDESC:Events for The Fox and the Fiddle
REFRESH-INTERVAL;VALUE=DURATION:PT1H
X-Robots-Tag:noindex
X-PUBLISHED-TTL:PT1H
BEGIN:VTIMEZONE
TZID:America/New_York
BEGIN:DAYLIGHT
TZOFFSETFROM:-0500
TZOFFSETTO:-0400
TZNAME:EDT
DTSTART:20250309T070000
END:DAYLIGHT
BEGIN:STANDARD
TZOFFSETFROM:-0400
TZOFFSETTO:-0500
TZNAME:EST
DTSTART:20251102T060000
END:STANDARD
END:VTIMEZONE
BEGIN:VEVENT
DTSTART;TZID=America/New_York:20250306T190000
DTEND;TZID=America/New_York:20250306T220000
DTSTAMP:20260425T202610
CREATED:20250131T213048Z
LAST-MODIFIED:20250131T213048Z
UID:927-1741287600-1741298400@thefoxandthefiddle.com
SUMMARY:Goomah
DESCRIPTION:We are at the best pizza place in Slvan Lake. Goomah Pizza has opened its doors to The Fox and the Fiddle and we will be there to play for all it’s wonderful guests. This is our first time playing here and we are hoping that we have another great night so come join us for pizza\, music\, and fun.
URL:https://thefoxandthefiddle.com/event/goomah/
LOCATION:Goomah Pizzeria and Live Bait\, 2440 Orchard Lake\, Sylvan Lake\, Mi\, 48320
CATEGORIES:Fox and The Fiddle,Schedule
ATTACH;FMTTYPE=image/jpeg:https://thefoxandthefiddle.com/wp-content/uploads/2025/01/OIP.jpg
END:VEVENT
END:VCALENDAR