BEGIN:VCALENDAR
VERSION:2.0
PRODID:-//The Fox and the Fiddle - ECPv6.13.2.1//NONSGML v1.0//EN
CALSCALE:GREGORIAN
METHOD:PUBLISH
X-WR-CALNAME:The Fox and the Fiddle
X-ORIGINAL-URL:https://thefoxandthefiddle.com
X-WR-CALDESC:Events for The Fox and the Fiddle
REFRESH-INTERVAL;VALUE=DURATION:PT1H
X-Robots-Tag:noindex
X-PUBLISHED-TTL:PT1H
BEGIN:VTIMEZONE
TZID:America/New_York
BEGIN:DAYLIGHT
TZOFFSETFROM:-0500
TZOFFSETTO:-0400
TZNAME:EDT
DTSTART:20250309T070000
END:DAYLIGHT
BEGIN:STANDARD
TZOFFSETFROM:-0400
TZOFFSETTO:-0500
TZNAME:EST
DTSTART:20251102T060000
END:STANDARD
END:VTIMEZONE
BEGIN:VEVENT
DTSTART;TZID=America/New_York:20250802T190000
DTEND;TZID=America/New_York:20250802T230000
DTSTAMP:20260425T110858
CREATED:20250527T233454Z
LAST-MODIFIED:20250527T233454Z
UID:1001-1754161200-1754175600@thefoxandthefiddle.com
SUMMARY:SUNFLOWER Festival @ Earl Farms w/ The Austin Scott Band
DESCRIPTION:What an honor to be asked back to perform at the beautiful farm  in the middle of a Sunflower Field under the prettiest old tree in all of Michigan. This event will be nothing but first class and amazing in every aspect. The food\, the music\, the people and the over all experience will be absolutely incredible. See you in Wixom at Earl Farms Sun Flower Festival with The Austin Scott Band. Tickets must be bought for entry.
URL:https://thefoxandthefiddle.com/event/sunflower-festival-earl-farms-w-the-austin-scott-band/
LOCATION:Earl Farms\, Wixom\, Michigan\, United States
CATEGORIES:Fox and The Fiddle,Schedule
ATTACH;FMTTYPE=image/jpeg:https://thefoxandthefiddle.com/wp-content/uploads/2025/05/Screenshot_20250526_190336_Facebook1-e1748388297340.jpg
END:VEVENT
END:VCALENDAR