BEGIN:VCALENDAR
VERSION:2.0
PRODID:-//The Fox and the Fiddle - ECPv6.13.2.1//NONSGML v1.0//EN
CALSCALE:GREGORIAN
METHOD:PUBLISH
X-WR-CALNAME:The Fox and the Fiddle
X-ORIGINAL-URL:https://thefoxandthefiddle.com
X-WR-CALDESC:Events for The Fox and the Fiddle
REFRESH-INTERVAL;VALUE=DURATION:PT1H
X-Robots-Tag:noindex
X-PUBLISHED-TTL:PT1H
BEGIN:VTIMEZONE
TZID:America/New_York
BEGIN:DAYLIGHT
TZOFFSETFROM:-0500
TZOFFSETTO:-0400
TZNAME:EDT
DTSTART:20250309T070000
END:DAYLIGHT
BEGIN:STANDARD
TZOFFSETFROM:-0400
TZOFFSETTO:-0500
TZNAME:EST
DTSTART:20251102T060000
END:STANDARD
END:VTIMEZONE
BEGIN:VEVENT
DTSTART;TZID=America/New_York:20250611T190000
DTEND;TZID=America/New_York:20250611T210000
DTSTAMP:20260424T025623
CREATED:20250503T202633Z
LAST-MODIFIED:20250503T202633Z
UID:978-1749668400-1749675600@thefoxandthefiddle.com
SUMMARY:Copper Hop Brewing Company
DESCRIPTION:Join us at a very wonderful place in beautiful downtown Saint Clair Shores at The Copper Hop Brewing Company. The food trucks will be there preparing your favorite food and the beer will be ice cold and ready for your enjoyment. So come see The Fox and the Fiddle and enjoy yourselves because you deserve it. See you there!
URL:https://thefoxandthefiddle.com/event/copper-hop-brewing-company/
LOCATION:The Copper Hop\, 23401 Greater Mack Ave\, Saint Clair Shores\, MI\, 48080\, United States
CATEGORIES:Fox and The Fiddle,Schedule
ATTACH;FMTTYPE=image/jpeg:https://thefoxandthefiddle.com/wp-content/uploads/2024/12/copper-hop.jpg
END:VEVENT
END:VCALENDAR