BEGIN:VCALENDAR
VERSION:2.0
PRODID:-//The Fox and the Fiddle - ECPv6.13.2.1//NONSGML v1.0//EN
CALSCALE:GREGORIAN
METHOD:PUBLISH
X-ORIGINAL-URL:https://thefoxandthefiddle.com
X-WR-CALDESC:Events for The Fox and the Fiddle
REFRESH-INTERVAL;VALUE=DURATION:PT1H
X-Robots-Tag:noindex
X-PUBLISHED-TTL:PT1H
BEGIN:VTIMEZONE
TZID:America/New_York
BEGIN:DAYLIGHT
TZOFFSETFROM:-0500
TZOFFSETTO:-0400
TZNAME:EDT
DTSTART:20250309T070000
END:DAYLIGHT
BEGIN:STANDARD
TZOFFSETFROM:-0400
TZOFFSETTO:-0500
TZNAME:EST
DTSTART:20251102T060000
END:STANDARD
END:VTIMEZONE
BEGIN:VEVENT
DTSTART;TZID=America/New_York:20250712T100000
DTEND;TZID=America/New_York:20250712T120000
DTSTAMP:20260425T175749
CREATED:20250624T002950Z
LAST-MODIFIED:20250624T002950Z
UID:1015-1752314400-1752321600@thefoxandthefiddle.com
SUMMARY:Royal Oak Farmers Market
DESCRIPTION:We are back at one of our most favorite places to be at on a beautiful Saturday morning in Royal Oak. Come join us for fun\, music\, groceries and happy smiling people. We will be there from 10am to noon. See you at the market.
URL:https://thefoxandthefiddle.com/event/royal-oak-farmers-market-19/
LOCATION:Royal Oak Farmers Market\, 316 E 11mile rd\, Royal Oak\, MI\, 48067\, United States
CATEGORIES:Fox and The Fiddle,Schedule
ATTACH;FMTTYPE=image/jpeg:https://thefoxandthefiddle.com/wp-content/uploads/2021/10/royal-oak-farmers-marjket.jpg
END:VEVENT
BEGIN:VEVENT
DTSTART;TZID=America/New_York:20250724T180000
DTEND;TZID=America/New_York:20250724T213000
DTSTAMP:20260425T175749
CREATED:20250624T012015Z
LAST-MODIFIED:20250624T012015Z
UID:1026-1753380000-1753392600@thefoxandthefiddle.com
SUMMARY:Goomah Pizza
DESCRIPTION:We are excited and ready for another great night at one of our favorite places to perform at in Sylvan Lake. Bring the family\, call your friends and join us musical filled night of pizza and wine with your friends The Fox and the Fiddle at Goomah Pizza.
URL:https://thefoxandthefiddle.com/event/goomah-pizza/
LOCATION:Goomah Pizzeria and Live Bait\, 2440 Orchard Lake\, Sylvan Lake\, Mi\, 48320
CATEGORIES:Fox and The Fiddle,Schedule
ATTACH;FMTTYPE=image/jpeg:https://thefoxandthefiddle.com/wp-content/uploads/2025/01/OIP.jpg
END:VEVENT
BEGIN:VEVENT
DTSTART;TZID=America/New_York:20250725T193000
DTEND;TZID=America/New_York:20250725T233000
DTSTAMP:20260425T175749
CREATED:20250624T012446Z
LAST-MODIFIED:20250624T012446Z
UID:1029-1753471800-1753486200@thefoxandthefiddle.com
SUMMARY:Fenton Hotel
DESCRIPTION:See you in beautiful downtown Fenton Michigan at one of the most iconic locations at the historic Fenton Hotel. The food is amazing and the music will be excellently played for your your listening pleasure.
URL:https://thefoxandthefiddle.com/event/fenton-hotel-22/
LOCATION:Fenton Hotel\, 302 N Leroy St.\, Fenton\, MI\, 48430\, United States
CATEGORIES:Fox and The Fiddle,Schedule
ATTACH;FMTTYPE=image/jpeg:https://thefoxandthefiddle.com/wp-content/uploads/2022/10/Fenton-Hotel-and-restaurant.jpg
END:VEVENT
BEGIN:VEVENT
DTSTART;TZID=America/New_York:20250726T193000
DTEND;TZID=America/New_York:20250726T233000
DTSTAMP:20260425T175749
CREATED:20250624T012925Z
LAST-MODIFIED:20250624T012925Z
UID:1031-1753558200-1753572600@thefoxandthefiddle.com
SUMMARY:Fenton Hotel
DESCRIPTION:Fenton Hotel on Saturday night. See you there !!!!
URL:https://thefoxandthefiddle.com/event/fenton-hotel-23/
LOCATION:Fenton Hotel\, 302 N Leroy St.\, Fenton\, MI\, 48430\, United States
CATEGORIES:Fox and The Fiddle,Schedule
ATTACH;FMTTYPE=image/jpeg:https://thefoxandthefiddle.com/wp-content/uploads/2022/10/Fenton-Hotel-and-restaurant.jpg
END:VEVENT
BEGIN:VEVENT
DTSTART;TZID=America/New_York:20250731T200000
DTEND;TZID=America/New_York:20250731T233000
DTSTAMP:20260425T175749
CREATED:20250731T005927Z
LAST-MODIFIED:20250731T005927Z
UID:1056-1753992000-1754004600@thefoxandthefiddle.com
SUMMARY:Oak City Grille
DESCRIPTION:Join us in exciting downtown Royal Oak at The Oak City Grille tomorrow night Thursday July 31st for our final and most amazing performance of July! See you there and thank you for supporting live music and The Fox and the Fiddle.
URL:https://thefoxandthefiddle.com/event/oak-city-grille/
LOCATION:Oak City Grille\, 212 6th St\, Royal Oak\, 48067\, United States
CATEGORIES:Fox and The Fiddle,Schedule
ATTACH;FMTTYPE=image/jpeg:https://thefoxandthefiddle.com/wp-content/uploads/2025/07/OCG.jpg
END:VEVENT
END:VCALENDAR