BEGIN:VCALENDAR
VERSION:2.0
PRODID:-//The Fox and the Fiddle - ECPv6.13.2.1//NONSGML v1.0//EN
CALSCALE:GREGORIAN
METHOD:PUBLISH
X-WR-CALNAME:The Fox and the Fiddle
X-ORIGINAL-URL:https://thefoxandthefiddle.com
X-WR-CALDESC:Events for The Fox and the Fiddle
REFRESH-INTERVAL;VALUE=DURATION:PT1H
X-Robots-Tag:noindex
X-PUBLISHED-TTL:PT1H
BEGIN:VTIMEZONE
TZID:America/New_York
BEGIN:DAYLIGHT
TZOFFSETFROM:-0500
TZOFFSETTO:-0400
TZNAME:EDT
DTSTART:20250309T070000
END:DAYLIGHT
BEGIN:STANDARD
TZOFFSETFROM:-0400
TZOFFSETTO:-0500
TZNAME:EST
DTSTART:20251102T060000
END:STANDARD
END:VTIMEZONE
BEGIN:VEVENT
DTSTART;TZID=America/New_York:20251205T200000
DTEND;TZID=America/New_York:20251205T233000
DTSTAMP:20260425T073754
CREATED:20251129T205643Z
LAST-MODIFIED:20251129T205643Z
UID:1152-1764964800-1764977400@thefoxandthefiddle.com
SUMMARY:Greek Town Country Bar Crawl
DESCRIPTION:Come to the amazing Greek Town’ Hollywood Casino and join the great people of Detroit for an eight venue country music bar crawl. It is going to be amazing part filled with music\,dancing\, drinks\, and all the fun you can have in Detroit’s shining gem\, Greek Town.
URL:https://thefoxandthefiddle.com/event/greek-town-country-bar-crawl/
LOCATION:Hollywood Casino\, 1200 Saint Antoine\, Detroit\, MI\, 48226\, United States
CATEGORIES:Fox and The Fiddle,Schedule
ATTACH;FMTTYPE=image/jpeg:https://thefoxandthefiddle.com/wp-content/uploads/2025/11/bar-crawl.jpg
END:VEVENT
END:VCALENDAR